{"text_format":"3","workbook":"xlsx","n_sheets":4,"sheets":["Arkansas","Alabama","Missouri","Comparison"],"not_rendered":{"charts":11},"read":"whole","date_system":"1900"}

{"sheet":"Arkansas","index":0,"n_rows":10,"n_cols":8,"rows_kept":10,"merged":[[2,2,2,7]]}
[]
[]
[null,null,"Rainfall in Arkansas in Inches"]
[null,null,"City","Spring","Summer","Fall","Winter","Total"]
[null,null,"Batesville ",{"$nulls":4},{"$f":"SUM(D5:G5)","v":{"v":0,"d":"0.0"}}]
[null,null,"Fayettville",{"$nulls":4},{"$f":"SUM(D6:G6)","v":{"v":0,"d":"0.0"}}]
[null,null,"Jonesboro",{"$nulls":4},{"v":0,"d":"0.0"}]
[null,null,"Little Rock",{"$nulls":4},{"v":0,"d":"0.0"}]
[null,null,"Pine Bluff",{"$nulls":4},{"$f":"SUM(D9:G9)","v":{"v":0,"d":"0.0"}}]
[null,null,"Averages",{"$f":"(D5+D6+D7+D8+D9)/5","v":{"v":0,"d":"0.0"}},{"$f":"(E5+E6+E7+E8+E9)/5","v":{"v":0,"d":"0.0"}},{"v":0,"d":"0.0"},{"$f":"(G5+G6+G7+G8+G9)/5","v":{"v":0,"d":"0.0"}},{"$f":"SUM(H5:H9)","v":{"v":0,"d":"0.0"}}]

{"sheet":"Alabama","index":1,"n_rows":10,"n_cols":8,"rows_kept":10,"merged":[[2,2,2,7]]}
[]
[]
[null,null,"Rainfall in Alabama in Inches"]
[null,null,"City","Spring","Summer","Fall","Winter","Total"]
[null,null,"Gulf Shores ",{"$nulls":4},{"$f":"SUM(D5:G5)","v":{"v":0,"d":"0.0"}}]
[null,null,"Tuscaloosa",{"$nulls":4},{"$f":"SUM(D6:G6)","v":{"v":0,"d":"0.0"}}]
[null,null,"Montgomery",{"$nulls":4},{"v":0,"d":"0.0"}]
[null,null,"Burmingham",{"$nulls":4},{"v":0,"d":"0.0"}]
[null,null,"Huntsville",{"$nulls":4},{"$f":"SUM(D9:G9)","v":{"v":0,"d":"0.0"}}]
[null,null,"Averages",{"$f":"(D5+D6+D7+D8+D9)/5","v":{"v":0,"d":"0.0"}},{"$f":"(E5+E6+E7+E8+E9)/5","v":{"v":0,"d":"0.0"}},{"$f":"(F5+F6+F7+F8+F9)/5","v":{"v":0,"d":"0.0"}},{"v":0,"d":"0.0"},{"$f":"SUM(H5:H9)","v":{"v":0,"d":"0.0"}}]

{"sheet":"Missouri","index":2,"n_rows":10,"n_cols":8,"rows_kept":10,"merged":[[2,2,2,7]]}
[]
[]
[null,null,"Rainfall in Missouri in Inches"]
[null,null,"City","Spring","Summer","Fall","Winter","Total"]
[null,null,"Springfield",{"$nulls":4},{"$f":"SUM(D5:G5)","v":{"v":0,"d":"0.0"}}]
[null,null,"Dexter",{"$nulls":4},{"$f":"SUM(D6:G6)","v":{"v":0,"d":"0.0"}}]
[null,null,"Branson",{"$nulls":4},{"v":0,"d":"0.0"}]
[null,null,"St Louis",{"$nulls":4},{"v":0,"d":"0.0"}]
[null,null,"Columbia",{"$nulls":4},{"$f":"SUM(D9:G9)","v":{"v":0,"d":"0.0"}}]
[null,null,"Averages",{"$f":"(D5+D6+D7+D8+D9)/5","v":{"v":0,"d":"0.0"}},{"$f":"(E5+E6+E7+E8+E9)/5","v":{"v":0,"d":"0.0"}},{"v":0,"d":"0.0"},{"v":0,"d":"0.0"},{"$f":"SUM(H5:H9)","v":{"v":0,"d":"0.0"}}]

{"sheet":"Comparison","index":3,"n_rows":8,"n_cols":7,"rows_kept":8,"merged":[[2,1,2,6]]}
[]
[]
[null,"Comparison "]
[null,"State","Spring","Summer","Fall","Winter","Total"]
[null,"Arkansas",{"$f":"Arkansas!D10","v":{"v":0,"d":"0.0"}},{"$f":"Arkansas!E10","v":{"v":0,"d":"0.0"}},{"$f":"Arkansas!F10","v":{"v":0,"d":"0.0"}},{"$f":"Arkansas!G10","v":{"v":0,"d":"0.0"}},{"$f":"Arkansas!H10","v":{"v":0,"d":"0.0"}}]
[null,"Missouri",{"$f":"Missouri!D10","v":{"v":0,"d":"0.0"}},{"$f":"Missouri!E10","v":{"v":0,"d":"0.0"}},{"$f":"Missouri!F10","v":{"v":0,"d":"0.0"}},{"$f":"Missouri!G10","v":{"v":0,"d":"0.0"}},{"$f":"Missouri!H10","v":{"v":0,"d":"0.0"}}]
[null,"Alabama",{"$f":"Alabama!D10","v":{"v":0,"d":"0.0"}},{"$f":"Alabama!E10","v":{"v":0,"d":"0.0"}},{"$f":"Alabama!F10","v":{"v":0,"d":"0.0"}},{"$f":"Alabama!G10","v":{"v":0,"d":"0.0"}},{"$f":"Alabama!H10","v":{"v":0,"d":"0.0"}}]
[null,"Average",{"$f":"(C5+C6+C7)/3","v":{"v":0,"d":"0.0"}},{"$f":"(D5+D6+D7)/3","v":{"v":0,"d":"0.0"}},{"v":0,"d":"0.0"},{"v":0,"d":"0.0"},{"$f":"SUM(G5:G7)","v":{"v":0,"d":"0.0"}}]