{"text_format":"3","workbook":"xlsx","n_sheets":4,"sheets":["Kroger ","Walmart","Harp's","Comparison"],"not_rendered":{"charts":11},"read":"whole","date_system":"1900"}

{"sheet":"Kroger ","index":0,"n_rows":14,"n_cols":6,"rows_kept":14,"merged":[[3,1,3,5],[4,1,4,5]]}
[]
[]
[]
[null,"Kroger"]
[]
[null,"Product","Full Price","Sale Price","Bulk Price","Average Price"]
[null,"Orange Juice",{"$nulls":3},{"$f":"AVERAGE(C7:E7)","v":{"$error":"#DIV/0!"}}]
[null,"Honey Buns",{"$nulls":3},{"$f":"AVERAGE(C8:E8)","v":{"$error":"#DIV/0!"}}]
[null,"Brown Milk",{"$nulls":3},{"$error":"#DIV/0!"}]
[null,"Quaker Granola Bars (5-pack)",{"$nulls":3},{"$error":"#DIV/0!"}]
[null,"Pizza Snack Pack",{"$nulls":3},{"$error":"#DIV/0!"}]
[null,"Coffee Creamer",{"$nulls":3},{"$error":"#DIV/0!"}]
[null,"Lays Potato Chips",{"$nulls":3},{"$error":"#DIV/0!"}]
[null,"Total ",{"$f":"(C7+C8+C9+C10+C11+C12+C13)","v":{"v":0,"d":"$0.00"}},{"$f":"(D7+D8+D9+D10+D11+D12+D13)","v":{"v":0,"d":"$0.00"}},{"$f":"(E7+E8+E9+E10+E11+E12+E13)","v":{"v":0,"d":"$0.00"}},{"$f":"(F7+F8+F9+F10+F11+F12+F13)","v":{"$error":"#DIV/0!"}}]

{"sheet":"Walmart","index":1,"n_rows":14,"n_cols":6,"rows_kept":14,"merged":[[3,1,3,5],[4,1,4,5]]}
[]
[]
[]
[null,"Walmart"]
[]
[null,"Product","Full Price","Sale Price","Bulk Price ","Average Price"]
[null,"Orange Juice",{"$nulls":3},{"$f":"AVERAGE(C7:E7)","v":{"$error":"#DIV/0!"}}]
[null,"Honey Buns",{"$nulls":3},{"$f":"AVERAGE(C8:E8)","v":{"$error":"#DIV/0!"}}]
[null,"Brown Milk",{"$nulls":3},{"$error":"#DIV/0!"}]
[null,"Quaker Granola Bars (5-pack)",{"$nulls":3},{"$error":"#DIV/0!"}]
[null,"Pizza Snack Pack",{"$nulls":3},{"$error":"#DIV/0!"}]
[null,"Coffee Creamer",{"$nulls":3},{"$error":"#DIV/0!"}]
[null,"Lays Potato Chips",{"$nulls":3},{"$error":"#DIV/0!"}]
[null,"Total",{"$f":"(C7+C8+C9+C10+C11+C12+C13)","v":{"v":0,"d":"$0.00"}},{"$f":"(D7+D8+D9+D10+D11+D12+D13)","v":{"v":0,"d":"$0.00"}},{"$f":"(E7+E8+E9+E10+E11+E12+E13)","v":{"v":0,"d":"$0.00"}},{"$f":"(F7+F8+F9+F10+F11+F12+F13)","v":{"$error":"#DIV/0!"}}]

{"sheet":"Harp's","index":2,"n_rows":14,"n_cols":6,"rows_kept":14,"merged":[[3,1,3,5],[4,1,4,5]]}
[]
[]
[]
[null,"Harp's"]
[]
[null,"Product","Full Price","Sale Price","Bulk Price","Average Price"]
[null,"Orange Juice",{"$nulls":3},{"$f":"AVERAGE(C7:E7)","v":{"$error":"#DIV/0!"}}]
[null,"Honey Buns",{"$nulls":3},{"$f":"AVERAGE(C8:E8)","v":{"$error":"#DIV/0!"}}]
[null,"Brown Milk",{"$nulls":3},{"$error":"#DIV/0!"}]
[null,"Quaker Granola Bars (5-pack)",{"$nulls":3},{"$error":"#DIV/0!"}]
[null,"Pizza Snack Pack",{"$nulls":3},{"$error":"#DIV/0!"}]
[null,"Coffee Creamer",{"$nulls":3},{"$error":"#DIV/0!"}]
[null,"Lays Potato Chips",{"$nulls":3},{"$error":"#DIV/0!"}]
[null,"Total",{"$f":"(C7+C8+C9+C10+C11+C12+C13)","v":{"v":0,"d":"$0.00"}},{"$f":"(D7+D8+D9+D10+D11+D12+D13)","v":{"v":0,"d":"$0.00"}},{"$f":"(E7+E8+E9+E10+E11+E12+E13)","v":{"v":0,"d":"$0.00"}},{"$f":"(F7+F8+F9+F10+F11+F12+F13)","v":{"$error":"#DIV/0!"}}]

{"sheet":"Comparison","index":3,"n_rows":8,"n_cols":7,"rows_kept":8,"merged":[[2,2,2,6]]}
[]
[]
[null,null,"Comparison"]
[null,null,"Store","Full Price","Sale Price","Bulk Price","Average Price"]
[null,null,"Kroger",{"$f":"('Kroger '!C14)","v":{"v":0,"d":"$0.00"}},{"$f":"('Kroger '!D14)","v":{"v":0,"d":"$0.00"}},{"$f":"('Kroger '!E14)","v":{"v":0,"d":"$0.00"}},{"$f":"('Kroger '!F14)","v":{"$error":"#DIV/0!"}}]
[null,null,"Walmart",{"$f":"(Walmart!C14)","v":{"v":0,"d":"$0.00"}},{"$f":"(Walmart!D14)","v":{"v":0,"d":"$0.00"}},{"$f":"(Walmart!E14)","v":{"v":0,"d":"$0.00"}},{"$f":"(Walmart!F14)","v":{"$error":"#DIV/0!"}}]
[null,null,"Harp's",{"$f":"('Harp''s'!C14)","v":{"v":0,"d":"$0.00"}},{"$f":"('Harp''s'!D14)","v":{"v":0,"d":"$0.00"}},{"$f":"('Harp''s'!E14)","v":{"v":0,"d":"$0.00"}},{"$f":"('Harp''s'!F14)","v":{"$error":"#DIV/0!"}}]
[null,null,"Average",{"$f":"AVERAGE(D5:D7)","v":{"v":0,"d":"$0.00"}},{"$f":"AVERAGE(E5:E7)","v":{"v":0,"d":"$0.00"}},{"v":0,"d":"$0.00"},{"$error":"#DIV/0!"}]