{"text_format":"3","workbook":"xlsx","n_sheets":4,"sheets":["Pre-Revolution","During Revolution","Right After Revolution","Comparison"],"not_rendered":{"charts":8},"read":"whole","date_system":"1900"}

{"sheet":"Pre-Revolution","index":0,"n_rows":13,"n_cols":9,"rows_kept":13,"merged":[[6,4,6,8]]}
[]
[]
[]
[]
[]
[]
[{"$nulls":4},"Prices before Revolutionary War"]
[]
[{"$nulls":4},"Country","Corn","Wheat","Butter","Average Cost per Country"]
[{"$nulls":4},"United States",{"$nulls":3},{"$f":"AVERAGE(F10:H10)","v":{"$error":"#DIV/0!"}}]
[{"$nulls":4},"Britain",{"$nulls":3},{"$f":"AVERAGE(F11:H11)","v":{"$error":"#DIV/0!"}}]
[{"$nulls":4},"France",{"$nulls":3},{"$error":"#DIV/0!"}]
[{"$nulls":4},"Avgerage Cost per Resource",{"$f":"(F10+F11+F12)/3","v":{"v":0,"d":"$0.00"}},{"$f":"AVERAGE(G10:G12)","v":{"$error":"#DIV/0!"}},{"$f":"(H10+H11+H12)/3","v":{"v":0,"d":"$0.00"}},{"$error":"#DIV/0!"}]

{"sheet":"During Revolution","index":1,"n_rows":15,"n_cols":9,"rows_kept":15,"merged":[[6,5,6,7],[8,4,8,8]]}
{"$rows_empty":8}
[{"$nulls":4},"Prices during Revolutionary War"]
[]
[{"$nulls":4},"Country","Corn","Wheat","Butter","Average Cost per Country"]
[{"$nulls":4},"United States",{"$nulls":3},{"$f":"AVERAGE(F12:H12)","v":{"$error":"#DIV/0!"}}]
[{"$nulls":4},"Britain",{"$nulls":3},{"$f":"AVERAGE(F13:H13)","v":{"$error":"#DIV/0!"}}]
[{"$nulls":4},"France",{"$nulls":3},{"$error":"#DIV/0!"}]
[{"$nulls":4},"Avgerage Cost per Resource",{"$f":"(F12+F13+F14)/3","v":{"v":0,"d":"$0.00"}},{"$f":"AVERAGE(G12:G14)","v":{"$error":"#DIV/0!"}},{"$f":"(H12+H13+H14)/3","v":{"v":0,"d":"$0.00"}},{"$error":"#DIV/0!"}]

{"sheet":"Right After Revolution","index":2,"n_rows":15,"n_cols":9,"rows_kept":15,"merged":[[7,5,7,9],[8,4,8,8]]}
{"$rows_empty":8}
[{"$nulls":4},"Prices after Revolutionary War"]
[]
[{"$nulls":4},"Country","Corn","Wheat","Butter","Average Cost per Country"]
[{"$nulls":4},"United States",{"$nulls":3},{"$f":"AVERAGE(F12:H12)","v":{"$error":"#DIV/0!"}}]
[{"$nulls":4},"Britain",{"$nulls":3},{"$f":"AVERAGE(F13:H13)","v":{"$error":"#DIV/0!"}}]
[{"$nulls":4},"France",{"$nulls":3},{"$error":"#DIV/0!"}]
[{"$nulls":4},"Avgerage Cost per Resource",{"$f":"(F12+F13+F14)/3","v":{"v":0,"d":"$0.00"}},{"$f":"AVERAGE(G12:G14)","v":{"$error":"#DIV/0!"}},{"$f":"(H12+H13+H14)/3","v":{"v":0,"d":"$0.00"}},{"$error":"#DIV/0!"}]

{"sheet":"Comparison","index":3,"n_rows":11,"n_cols":10,"rows_kept":11,"merged":[[5,5,5,9]]}
[]
[]
[]
[]
[]
[{"$nulls":5},"Comparison/Average of all the tables"]
[{"$nulls":5},"Country","Corn","Wheat","Butter","Percentage Increase"]
[{"$nulls":5},"United States",{"$f":"('Pre-Revolution'!F10+'During Revolution'!$F$12+Comparison!F12)/3","v":{"v":0,"d":"$0.00"}},{"$f":"('Pre-Revolution'!G10+'During Revolution'!$G$12+Comparison!G12)/3","v":{"v":0,"d":"$0.00"}},{"$f":"('Pre-Revolution'!H10+'During Revolution'!$H$12+'Right After Revolution'!H12)/3","v":{"v":0,"d":"$0.00"}},{"$f":"('Right After Revolution'!I12-'Pre-Revolution'!I10)/0.6/100","v":{"$error":"#DIV/0!"}}]
[{"$nulls":5},"Britain",{"$f":"('Pre-Revolution'!F11+'During Revolution'!$F$13+Comparison!F13)/3","v":{"v":0,"d":"$0.00"}},{"$f":"('Pre-Revolution'!G11+'During Revolution'!$G$13+'Right After Revolution'!G13)/3","v":{"v":0,"d":"$0.00"}},{"$f":"('Pre-Revolution'!H11+'During Revolution'!$H$13+'Right After Revolution'!H13)/3","v":{"v":0,"d":"$0.00"}},{"$f":"('Right After Revolution'!I13-'Pre-Revolution'!I11)/0.6/100","v":{"$error":"#DIV/0!"}}]
[{"$nulls":5},"France",{"$f":"('Pre-Revolution'!F12+'Right After Revolution'!F14+'Right After Revolution'!F14)/3","v":{"v":0,"d":"$0.00"}},{"$f":"('Pre-Revolution'!G12+'During Revolution'!$G$14+'Right After Revolution'!G14)/3","v":{"v":0,"d":"$0.00"}},{"$f":"('Pre-Revolution'!H12+'During Revolution'!$H$14+'Right After Revolution'!H14)/3","v":{"v":0,"d":"$0.00"}},{"$f":"('Right After Revolution'!I14-'Pre-Revolution'!I12)/0.6/100","v":{"$error":"#DIV/0!"}}]
[{"$nulls":5},"Average Cost",{"$f":"AVERAGE(G8:G10)","v":{"v":0,"d":"$0.00"}},{"$f":"AVERAGE(H8:H10)","v":{"v":0,"d":"$0.00"}},{"$f":"AVERAGE(I8:I10)","v":{"v":0,"d":"$0.00"}},{"$f":"('Right After Revolution'!I15-'Pre-Revolution'!I13)/0.6/100","v":{"$error":"#DIV/0!"}}]