{"text_format":"3","workbook":"xlsx","n_sheets":4,"sheets":["Week 1","Week 2","Week 3","Comparison"],"not_rendered":{"charts":11},"read":"whole","date_system":"1900"}

{"sheet":"Week 1","index":0,"n_rows":9,"n_cols":7,"rows_kept":9,"merged":[[0,1,0,6],[1,1,1,6]]}
[null,"Week 1"]
[null,"Recycling in Kindergarten"]
[null,"Classroom","Paper Items","Plastic Items","Cans","Bottles","Total"]
[null,"Ms. Madison",{"$nulls":4},{"$f":"SUM(C4:F4)","v":0}]
[null,"Ms. Teagan",{"$nulls":4},0]
[null,"Ms. Jadyn",{"$nulls":4},0]
[null,"Ms. Diana",{"$nulls":4},0]
[null,"Total",{"$f":"SUM(C4:C7)","v":0},{"$f":"SUM(D4:D7)","v":0},{"$f":"SUM(E4:E7)","v":0},{"$f":"SUM(F4:F7)","v":0},0]
[null,"Average",{"$f":"AVERAGE(C4:C7)","v":{"$error":"#DIV/0!"}},{"$f":"AVERAGE(D4:D7)","v":{"$error":"#DIV/0!"}},{"$f":"AVERAGE(E4:E7)","v":{"$error":"#DIV/0!"}},{"$f":"AVERAGE(F4:F7)","v":{"$error":"#DIV/0!"}},{"$error":"#DIV/0!"}]

{"sheet":"Week 2","index":1,"n_rows":9,"n_cols":7,"rows_kept":9,"merged":[[0,1,0,6],[1,1,1,6]]}
[null,"Week 2"]
[null,"Recycling in Kindergarten"]
[null,"Classroom","Paper Items","Plastic Items","Cans","Bottles","Total"]
[null,"Ms. Madison",{"$nulls":4},{"$f":"SUM(C4:F4)","v":0}]
[null,"Ms. Teagan",{"$nulls":4},0]
[null,"Ms. Jadyn",{"$nulls":4},0]
[null,"Ms. Diana",{"$nulls":4},0]
[null,"Total",{"$f":"SUM(C4:C7)","v":0},{"$f":"SUM(D4:D7)","v":0},{"$f":"SUM(E4:E7)","v":0},{"$f":"SUM(F4:F7)","v":0},0]
[null,"Average",{"$f":"AVERAGE(C4:C7)","v":{"$error":"#DIV/0!"}},{"$f":"AVERAGE(D4:D7)","v":{"$error":"#DIV/0!"}},{"$f":"AVERAGE(E4:E7)","v":{"$error":"#DIV/0!"}},{"$f":"AVERAGE(F4:F7)","v":{"$error":"#DIV/0!"}},{"$error":"#DIV/0!"}]

{"sheet":"Week 3","index":2,"n_rows":9,"n_cols":7,"rows_kept":9,"merged":[[0,1,0,6],[1,1,1,6]]}
[null,"Week 3"]
[null,"Recycling in Kindergarten"]
[null,"Classroom","Paper Items","Plastic Items","Cans","Bottles","Total"]
[null,"Ms. Madison",{"$nulls":4},{"$f":"SUM(C4:F4)","v":0}]
[null,"Ms. Teagan",{"$nulls":4},0]
[null,"Ms. Jadyn",{"$nulls":4},0]
[null,"Ms. Diana",{"$nulls":4},0]
[null,"Total",{"$f":"SUM(C4:C7)","v":0},{"$f":"SUM(D4:D7)","v":0},{"$f":"SUM(E4:E7)","v":0},{"$f":"SUM(F4:F7)","v":0},0]
[null,"Average",{"$f":"AVERAGE(C4:C7)","v":{"$error":"#DIV/0!"}},{"$f":"AVERAGE(D4:D7)","v":{"$error":"#DIV/0!"}},{"$f":"AVERAGE(E4:E7)","v":{"$error":"#DIV/0!"}},{"$f":"AVERAGE(F4:F7)","v":{"$error":"#DIV/0!"}},{"$error":"#DIV/0!"}]

{"sheet":"Comparison","index":3,"n_rows":8,"n_cols":7,"rows_kept":8,"merged":[[1,1,1,6]]}
[]
[null,"Total Number of Items Per Class"]
[null,"Classroom","Paper Items","Plastic Items","Cans","Bottles","Total"]
[null,"Ms. Madison",{"$f":"SUM('Week 3'!C4,'Week 2'!C4,'Week 1'!C4)","v":0},{"$f":"SUM('Week 3'!D4,'Week 2'!D4,'Week 1'!D4)","v":0},{"$f":"SUM('Week 3'!E4,'Week 2'!E4,'Week 1'!E4)","v":0},{"$f":"SUM('Week 3'!F4,'Week 2'!F4,'Week 1'!F4)","v":0},{"$f":"SUM('Week 3'!G4,'Week 2'!G4,'Week 1'!G4)","v":0}]
[null,"Ms. Teagan",{"$f":"SUM('Week 3'!C5,'Week 1'!C5,'Week 1'!C5)","v":0},{"$f":"SUM('Week 2'!D5,'Week 2'!D5,'Week 1'!D5)","v":0},{"$f":"SUM('Week 3'!E5,'Week 2'!E5,'Week 1'!E5)","v":0},{"$f":"SUM('Week 3'!F5,'Week 2'!F5,'Week 1'!F5)","v":0},{"$f":"SUM('Week 3'!G5,'Week 2'!G5,'Week 1'!G5)","v":0}]
[null,"Ms. Jadyn",{"$f":"SUM('Week 3'!C6,'Week 2'!C6,'Week 1'!C6)","v":0},{"$f":"SUM('Week 3'!D6,'Week 2'!D6,'Week 1'!D6)","v":0},{"$f":"SUM('Week 3'!E6,'Week 2'!E6,'Week 1'!E6)","v":0},{"$f":"SUM('Week 3'!F6,'Week 2'!F6,'Week 3'!F6)","v":0},{"$f":"SUM('Week 3'!G6,'Week 2'!G6,'Week 1'!G6)","v":0}]
[null,"Ms. Diana",{"$f":"SUM('Week 3'!C7,'Week 2'!C7,'Week 1'!C7)","v":0},{"$f":"SUM('Week 3'!D7,'Week 2'!D7,'Week 1'!D7)","v":0},{"$f":"SUM('Week 3'!E7,'Week 2'!E7,'Week 1'!E7)","v":0},{"$f":"SUM('Week 3'!F7,'Week 2'!F7,'Week 1'!F7)","v":0},{"$f":"SUM('Week 3'!G7,'Week 2'!G7,'Week 1'!G7)","v":0}]
[null,"Total ",{"$f":"SUM(C4:C7)","v":0},{"$f":"SUM(D4:D7)","v":0},{"$f":"SUM(E4:E7)","v":0},{"$f":"SUM(F4:F7)","v":0},{"$f":"SUM(G4:G7)","v":0}]