{"text_format":"3","workbook":"xlsx","n_sheets":5,"sheets":["1A","1B","1C","1D","Comparison"],"not_rendered":{"charts":29},"read":"whole","date_system":"1900"}

{"sheet":"1A","index":0,"n_rows":8,"n_cols":6,"rows_kept":8,"merged":[[0,0,0,5]]}
["Class 1A"]
[null,"Paper","Plastic","Cardboard","Glass","Total "]
["Week 1",{"$nulls":4},{"$f":"B3+C3+D3+E3","v":0}]
["Week 2",{"$nulls":4},{"$f":"B4+C4+D4+E4","v":0}]
["Week 3",{"$nulls":4},0]
["Week 4",{"$nulls":4},0]
["Week 5",{"$nulls":4},0]
["Total ",{"$f":"SUM(B3:B7)","v":0},{"$f":"SUM(C3:C7)","v":0},0,0,0]

{"sheet":"1B","index":1,"n_rows":8,"n_cols":6,"rows_kept":8,"merged":[[0,0,0,5]]}
["Class 1B"]
[null,"Paper","Plastic","Cardboard","Glass","Total "]
["Week 1",{"$nulls":4},{"$f":"B3+C3+D3+E3","v":0}]
["Week 2",{"$nulls":4},{"$f":"B4+C4+D4+E4","v":0}]
["Week 3",{"$nulls":4},0]
["Week 4",{"$nulls":4},0]
["Week 5",{"$nulls":4},0]
["Total ",{"$f":"SUM(B3:B7)","v":0},{"$f":"SUM(C3:C7)","v":0},0,0,0]

{"sheet":"1C","index":2,"n_rows":8,"n_cols":6,"rows_kept":8,"merged":[[0,0,0,5]]}
["Class 1C"]
[null,"Paper","Plastic","Cardboard","Glass","Total "]
["Week 1",{"$nulls":4},{"$f":"B3+C3+D3+E3","v":0}]
["Week 2",{"$nulls":4},{"$f":"B4+C4+D4+E4","v":0}]
["Week 3",{"$nulls":4},0]
["Week 4",{"$nulls":4},0]
["Week 5",{"$nulls":4},0]
["Total ",{"$f":"SUM(B3:B7)","v":0},{"$f":"SUM(C3:C7)","v":0},0,0,0]

{"sheet":"1D","index":3,"n_rows":8,"n_cols":6,"rows_kept":8,"merged":[[0,0,0,5]]}
["Class 1D"]
[null,"Paper","Plastic","Cardboard","Glass","Total "]
["Week 1",75,45,30,10,{"$f":"B3+C3+D3+E3","v":160}]
["Week 2",70,45,20,15,{"$f":"B4+C4+D4+E4","v":150}]
["Week 3",90,40,40,15,185]
["Week 4",125,60,20,20,225]
["Week 5",95,90,60,30,275]
["Total ",{"$f":"SUM(B3:B7)","v":455},{"$f":"SUM(C3:C7)","v":280},170,90,995]

{"sheet":"Comparison","index":4,"n_rows":10,"n_cols":7,"rows_kept":10,"merged":[[2,1,2,6]]}
[]
[]
[null,"Comparison"]
[null,"Class",{"$f":"'1A'!B2","v":"Paper"},{"$f":"'1A'!C2","v":"Plastic"},{"$f":"'1A'!D2","v":"Cardboard"},{"$f":"'1A'!E2","v":"Glass"},"Total"]
[null,"1A",{"$f":"'1A'!B8","v":0},{"$f":"'1A'!C8","v":0},{"$f":"'1A'!D8","v":0},{"$f":"'1A'!E8","v":0},{"$f":"SUM(C5:F5)","v":0}]
[null,"1B",{"$f":"'1B'!B8","v":0},{"$f":"'1B'!C8","v":0},{"$f":"'1B'!D8","v":0},{"$f":"'1B'!E8","v":0},{"$f":"SUM(C6:F6)","v":0}]
[null,"1C",{"$f":"'1C'!$B$8","v":0},{"$f":"'1C'!$B$8","v":0},{"$f":"'1C'!$B$8","v":0},{"$f":"'1C'!$B$8","v":0},0]
[null,"1D",{"$f":"'1D'!B8","v":455},{"$f":"'1D'!C8","v":280},{"$f":"'1D'!D8","v":170},{"$f":"'1D'!E8","v":90},995]
[null,"Total",{"$f":"SUM(C5:C8)","v":455},{"$f":"SUM(D5:D8)","v":280},170,90,995]
[{"$nulls":3},"First Place: 1C",{"$f":"MAX(G5:G8)","v":995}]