{"text_format":"3","workbook":"xlsx","n_sheets":4,"sheets":["GIRLS","BOYS","TEACHER","COMPARISON"],"not_rendered":{"charts":5,"defined_names":5},"read":"whole","date_system":"1900"}

{"sheet":"GIRLS","index":0,"n_rows":16,"n_cols":7,"rows_kept":16,"merged":[[1,0,1,6]]}
[]
["Skittles ADDITION - GIRLS"]
[null,"Total Skittless","Purple Total","Red Total","Green Total","Orange Total","Yellow Total"]
["BECKY",{"$f":"SUM(C4:G4)","v":0}]
["REAGAN",{"$f":"SUM(C5:G5)","v":0}]
["MELISSA",0]
["SHELLY",0]
["ELLIE",0]
["LAUREN",0]
["CHAQUINN",0]
["ASHLEY",0]
["KADAISHA",0]
[]
["TOTALS",{"$f":"SUM(B4:B12)","v":0},{"$f":"SUM(C4:C12)","v":0},0,0,0,0]
[]
["AVERAGES",null,{"$f":"AVERAGE(C14/B14)","v":{"$error":"#DIV/0!"}},{"$f":"AVERAGE(D14/B14)","v":{"$error":"#DIV/0!"}},{"$f":"AVERAGE(E14/B14)","v":{"$error":"#DIV/0!"}},{"$f":"AVERAGE(F14/B14)","v":{"$error":"#DIV/0!"}},{"$f":"AVERAGE(G14/B14)","v":{"$error":"#DIV/0!"}}]

{"sheet":"BOYS","index":1,"n_rows":16,"n_cols":7,"rows_kept":16,"merged":[[1,0,1,6]]}
[]
["Skittles ADDITION - Boys"]
[null,"Total Skittles","Purple Total","Red Total","Green Total","Orange Total","Yellow Total"]
["AARRON",{"$f":"SUM(C4:G4)","v":0}]
["HUNTER",{"$f":"SUM(C5:G5)","v":0}]
["ELI",0]
["JOE",0]
["BRYSTON",0]
["LOGAN",0]
["ASTIN",0]
["AIDEN",0]
["CALEB",0]
[]
["TOTALS",{"$f":"SUM(B4:B12)","v":0},{"$f":"SUM(C4:C12)","v":0},0,0,0,0]
[]
["AVERAGES",null,{"$f":"AVERAGE(C14/B14)","v":{"$error":"#DIV/0!"}},{"$f":"AVERAGE(D14/B14)","v":{"$error":"#DIV/0!"}},{"$f":"AVERAGE(E14/B14)","v":{"$error":"#DIV/0!"}},{"$f":"AVERAGE(F14/B14)","v":{"$error":"#DIV/0!"}},{"$f":"AVERAGE(G14/B14)","v":{"$error":"#DIV/0!"}}]

{"sheet":"TEACHER","index":2,"n_rows":8,"n_cols":7,"rows_kept":8,"merged":[[1,0,1,6]]}
[]
["Skittles ADDITION - GIRLS"]
[null,"Total Skittles","Purple Total","Red Total","Green Total","Orange Total","Yellow Total"]
["MS. BAKER",{"$f":"SUM(C4:G4)","v":0}]
[]
["TOTALS",{"$f":"SUM(B4:B4)","v":0},0,0,0,0,0]
[]
["AVERAGES",null,{"$f":"AVERAGE(C6/B6)","v":{"$error":"#DIV/0!"}},{"$f":"AVERAGE(D6/B6)","v":{"$error":"#DIV/0!"}},{"$f":"AVERAGE(E6/B6)","v":{"$error":"#DIV/0!"}},{"$f":"AVERAGE(F6/B6)","v":{"$error":"#DIV/0!"}},{"$f":"AVERAGE(G6/B6)","v":{"$error":"#DIV/0!"}}]

{"sheet":"COMPARISON","index":3,"n_rows":11,"n_cols":9,"rows_kept":11,"merged":[[2,1,2,6],[3,1,3,6]]}
[]
[]
[null,"Who has the most Skittles?"]
[null,"Totals By Color"]
[null,null,"Purple","Red","Green","Orange","Yellow",null,"TOTAL SKITTLES OVERALL"]
[null,"GIRLS",{"$f":"(GIRLS!C14)","v":0},{"$f":"(GIRLS!D14)","v":0},{"$f":"(GIRLS!E14)","v":0},{"$f":"(GIRLS!F14)","v":0},{"$f":"(GIRLS!G14)","v":0},null,{"$f":"SUM(C6:G6)","v":0}]
[null,"BOYS",{"$f":"(BOYS!C14)","v":0},{"$f":"(BOYS!D14)","v":0},{"$f":"(BOYS!E14)","v":0},{"$f":"(BOYS!F14)","v":0},{"$f":"(BOYS!G14)","v":0},null,{"$f":"SUM(C7:G7)","v":0}]
[null,"TEACHER",{"$f":"(TEACHER!C6)","v":0},{"$f":"(TEACHER!D6)","v":0},{"$f":"(TEACHER!E6)","v":0},{"$f":"(TEACHER!F6)","v":0},{"$f":"(TEACHER!G6)","v":0},null,0]
[]
[]
[null,"AVERAGE PERCENT",{"$f":"AVERAGE(C6+C7+C8)/(I6+I7+I8)","v":{"$error":"#DIV/0!"}},{"$f":"AVERAGE(D6+D7+D8)/(I6+I7+I8)","v":{"$error":"#DIV/0!"}},{"$f":"AVERAGE(E6+E7+E8)/(I6+I7+I8)","v":{"$error":"#DIV/0!"}},{"$f":"AVERAGE(F6+F7+F8)/(I6+I7+I8)","v":{"$error":"#DIV/0!"}},{"$f":"AVERAGE(G6+G7+G8)/(I6+I7+I8)","v":{"$error":"#DIV/0!"}}]