{"text_format":"3","workbook":"xlsx","n_sheets":4,"sheets":["8 AM Class","10 AM Class","12 PM Class","Comparison"],"not_rendered":{"charts":7,"images":2},"read":"whole","date_system":"1900"}

{"sheet":"8 AM Class","index":0,"n_rows":13,"n_cols":9,"rows_kept":13,"merged":[[0,0,0,8]]}
["Chrismas Shopping Grocery List"]
[null,"Milk","Juice","Eggs","Sugar","Flour","Fruit Cocktail","Pumpkin Pie","Total"]
[{"$nulls":8},{"$f":"SUM(B3:H3)","v":{"v":0,"d":"$0"}}]
[{"$nulls":8},{"$f":"SUM(C4:H4)","v":{"v":0,"d":"$0"}}]
[{"$nulls":8},{"$f":"SUM(C5:H5)","v":{"v":0,"d":"$0"}}]
[{"$nulls":8},{"$f":"SUM(B6:H6)","v":{"v":0,"d":"$0"}}]
[{"$nulls":8},{"$f":"SUM(B7:H7)","v":{"v":0,"d":"$0"}}]
[{"$nulls":8},{"$f":"SUM(C8:H8)","v":{"v":0,"d":"$0"}}]
[{"$nulls":8},{"$f":"SUM(C9:H9)","v":{"v":0,"d":"$0"}}]
[{"$nulls":8},{"$f":"SUM(C10:H10)","v":{"v":0,"d":"$0"}}]
[{"$nulls":8},{"$f":"SUM(B11:H11)","v":{"v":0,"d":"$0"}}]
[{"$nulls":8},{"$f":"SUM(C12:H12)","v":{"v":0,"d":"$0"}}]
["Total",{"$f":"B11+B7+B6+B3","v":{"v":0,"d":"$0"}},{"$f":"C12+C10+C9+C8+C7+C6+C5+C4","v":{"v":0,"d":"$0"}},{"$f":"D12+D8+D7+D6+D4+D3","v":{"v":0,"d":"$0"}},{"$f":"E12+E11+E10+E9+E8+E7+E6+E5+E4","v":{"v":0,"d":"$0"}},{"$f":"F12+F11+F10+F8+F7+F5+F4+F3","v":{"v":0,"d":"$0"}},{"$f":"G10+G9+G8+G7+G3","v":{"v":0,"d":"$0"}},{"$f":"H9+H7+H6+H4","v":{"v":0,"d":"$0"}},{"$f":"SUM(I3:I12)","v":{"v":0,"d":"$0"}}]

{"sheet":"10 AM Class","index":1,"n_rows":13,"n_cols":9,"rows_kept":13,"merged":[[0,0,0,8]]}
["Chrismas Shopping Grocery List"]
[null,"Milk","Juice","Eggs","Sugar","Flour","Fruit Cocktail","Pumpkin Pie","Total"]
[{"$nulls":8},{"$f":"SUM(B3:H3)","v":{"v":0,"d":"$0"}}]
[{"$nulls":8},{"$f":"SUM(C4:H4)","v":{"v":0,"d":"$0"}}]
[{"$nulls":8},{"$f":"SUM(B5:H5)","v":{"v":0,"d":"$0"}}]
[{"$nulls":8},{"$f":"SUM(B6:H6)","v":{"v":0,"d":"$0"}}]
[{"$nulls":8},{"$f":"SUM(B7:H7)","v":{"v":0,"d":"$0"}}]
[{"$nulls":8},{"$f":"SUM(C8:H8)","v":{"v":0,"d":"$0"}}]
[{"$nulls":8},{"$f":"SUM(C9:H9)","v":{"v":0,"d":"$0"}}]
[{"$nulls":8},{"$f":"SUM(C10:H10)","v":{"v":0,"d":"$0"}}]
[{"$nulls":8},{"$f":"SUM(B11:H11)","v":{"v":0,"d":"$0"}}]
[{"$nulls":8},{"$f":"SUM(C12:H12)","v":{"v":0,"d":"$0"}}]
["Total",{"$f":"B11+B7+B6+B3","v":{"v":0,"d":"$0"}},{"$f":"C12+C10+C9+C8+C7+C6+C5+C4","v":{"v":0,"d":"$0"}},{"$f":"D12+D8+D7+D6+D4+D3","v":{"v":0,"d":"$0"}},{"$f":"E12+E11+E10+E9+E8+E7+E6+E5+E4","v":{"v":0,"d":"$0"}},{"$f":"F12+F11+F10+F8+F7+F5+F4+F3","v":{"v":0,"d":"$0"}},{"$f":"G10+G9+G8+G7+G3","v":{"v":0,"d":"$0"}},{"$f":"H9+H7+H6+H4","v":{"v":0,"d":"$0"}},{"$f":"SUM(I3:I12)","v":{"v":0,"d":"$0"}}]

{"sheet":"12 PM Class","index":2,"n_rows":13,"n_cols":9,"rows_kept":13,"merged":[[0,0,0,8]]}
["Chrismas Shopping Grocery List"]
[null,"Milk","Juice","Eggs","Sugar","Flour","Fruit Cocktail","Pumpkin Pie","Total"]
[{"$nulls":8},{"$f":"SUM(B3:H3)","v":{"v":0,"d":"$0"}}]
[{"$nulls":8},{"v":0,"d":"$0"}]
[{"$nulls":8},{"v":0,"d":"$0"}]
[{"$nulls":8},{"v":0,"d":"$0"}]
[{"$nulls":8},{"v":0,"d":"$0"}]
[{"$nulls":8},{"v":0,"d":"$0"}]
[{"$nulls":8},{"v":0,"d":"$0"}]
[{"$nulls":8},{"v":0,"d":"$0"}]
[{"$nulls":8},{"v":0,"d":"$0"}]
[{"$nulls":8},{"$f":"SUM(C12:H12)","v":{"v":0,"d":"$0"}}]
["Total",{"$f":"B11+B7+B6+B3","v":{"v":0,"d":"$0"}},{"$f":"C12+C10+C9+C8+C7+C6+C5+C4","v":{"v":0,"d":"$0"}},{"$f":"D12+D8+D7+D6+D4+D3","v":{"v":0,"d":"$0"}},{"$f":"E12+E11+E10+E9+E8+E7+E6+E5+E4","v":{"v":0,"d":"$0"}},{"$f":"F12+F11+F10+F8+F7+F5+F4+F3","v":{"v":0,"d":"$0"}},{"$f":"G10+G9+G8+G7+G3","v":{"v":0,"d":"$0"}},{"$f":"H9+H7+H6+H4","v":{"v":0,"d":"$0"}},{"$f":"SUM(I3:I12)","v":{"v":0,"d":"$0"}}]

{"sheet":"Comparison","index":3,"n_rows":7,"n_cols":9,"rows_kept":7,"merged":[[1,0,1,8]]}
[]
["Comparison of Totals"]
[]
[null,"Milk Cost","Juice Cost","Eggs Cost","Sugar Cost","Flour Cost","Fruit Cocktail Cost","Pumpkin Pie Cost","Cost Between Classes"]
["8 AM Class",{"$f":"'8 AM Class'!B13","v":{"v":0,"d":"$0"}},{"$f":"'8 AM Class'!C13","v":{"v":0,"d":"$0"}},{"$f":"'8 AM Class'!D13","v":{"v":0,"d":"$0"}},{"$f":"'8 AM Class'!E13","v":{"v":0,"d":"$0"}},{"$f":"'8 AM Class'!F13","v":{"v":0,"d":"$0"}},{"$f":"'8 AM Class'!G13","v":{"v":0,"d":"$0"}},{"$f":"'8 AM Class'!H13","v":{"v":0,"d":"$0"}},{"$f":"'8 AM Class'!I13","v":{"v":0,"d":"$0"}}]
["10 AM Class",{"$f":"'10 AM Class'!B13","v":{"v":0,"d":"$0"}},{"$f":"'10 AM Class'!C13","v":{"v":0,"d":"$0"}},{"$f":"'10 AM Class'!D13","v":{"v":0,"d":"$0"}},{"$f":"'10 AM Class'!E13","v":{"v":0,"d":"$0"}},{"$f":"'10 AM Class'!F13","v":{"v":0,"d":"$0"}},{"$f":"'10 AM Class'!G13","v":{"v":0,"d":"$0"}},{"$f":"'10 AM Class'!H13","v":{"v":0,"d":"$0"}},{"$f":"'10 AM Class'!I13","v":{"v":0,"d":"$0"}}]
["12 PM Class",{"$f":"'12 PM Class'!B13","v":{"v":0,"d":"$0"}},{"$f":"'12 PM Class'!C13","v":{"v":0,"d":"$0"}},{"$f":"'12 PM Class'!D13","v":{"v":0,"d":"$0"}},{"$f":"'12 PM Class'!E13","v":{"v":0,"d":"$0"}},{"$f":"'12 PM Class'!F13","v":{"v":0,"d":"$0"}},{"$f":"'12 PM Class'!G13","v":{"v":0,"d":"$0"}},{"$f":"'12 PM Class'!H13","v":{"v":0,"d":"$0"}},{"$f":"'12 PM Class'!I13","v":{"v":0,"d":"$0"}}]