{"text_format":"3","workbook":"xlsx","n_sheets":4,"sheets":["Bank 1","Bank 2","Bank 3","Comparison"],"not_rendered":{"charts":11,"external_links":1},"read":"whole","date_system":"1900"}

{"sheet":"Bank 1","index":0,"n_rows":6,"n_cols":7,"rows_kept":6,"merged":[[1,1,1,6]]}
[]
[null,"Bank 1"]
[null,"Original Amount in Savings ","Interest Rate","Total Balance in 1 Year","Total Balance in 2 Years","Total Balance in 3 Years","Total Interest Gained"]
[null,null,{"v":0.005,"d":"0.5%"},{"$f":"B4*(1+$C4)","v":{"v":0,"d":"$0.00"}},{"$f":"D4*(1+$C4)","v":{"v":0,"d":"$0.00"}},{"$f":"E4*(1+$C4)","v":{"v":0,"d":"$0.00"}},{"$f":"SUM(D4:F4)-(B4*3)","v":{"v":0,"d":"$0.00"}}]
[null,null,{"v":0.005,"d":"0.5%"},{"$f":"B5*(1+$C5)","v":{"v":0,"d":"$0.00"}},{"$f":"D5*(1+$C5)","v":{"v":0,"d":"$0.00"}},{"v":0,"d":"$0.00"},{"$f":"SUM(D5:F5)-(B5*3)","v":{"v":0,"d":"$0.00"}}]
[null,null,{"v":0.005,"d":"0.5%"},{"v":0,"d":"$0.00"},{"v":0,"d":"$0.00"},{"v":0,"d":"$0.00"},{"$f":"SUM(D6:F6)-(B6*3)","v":{"v":0,"d":"$0.00"}}]

{"sheet":"Bank 2","index":1,"n_rows":6,"n_cols":7,"rows_kept":6,"merged":[[1,1,1,6]]}
[]
[null,"Bank 2"]
[null,"Original Amount in Savings ","Interest Rate","Total Balance in 1 Year","Total Balance in 2 Years","Total Balance in 3 Years","Total Interest Gained"]
[null,null,{"v":0.01,"d":"1%"},{"$f":"B4*(1+$C4)","v":{"v":0,"d":"$0.00"}},{"$f":"D4*(1+$C4)","v":{"v":0,"d":"$0.00"}},{"v":0,"d":"$0.00"},{"$f":"SUM(D4:F4)-(B4*3)","v":{"v":0,"d":"$0.00"}}]
[null,null,{"v":0.01,"d":"1%"},{"$f":"B5*(1+$C4)","v":{"v":0,"d":"$0.00"}},{"v":0,"d":"$0.00"},{"v":0,"d":"$0.00"},{"$f":"SUM(D5:F5)-(B5*3)","v":{"v":0,"d":"$0.00"}}]
[null,null,{"v":0.01,"d":"1%"},{"$f":"B6*(1+$C5)","v":{"v":0,"d":"$0.00"}},{"v":0,"d":"$0.00"},{"v":0,"d":"$0.00"},{"v":0,"d":"$0.00"}]

{"sheet":"Bank 3","index":2,"n_rows":6,"n_cols":7,"rows_kept":6,"merged":[[1,1,1,6],[4,13,4,15]]}
[]
[null,"Bank 3"]
[null,"Original Amount in Savings ","Interest Rate","Total Balance in 1 Year","Total Balance in 2 Years","Total Balance in 3 Years","Total Interest Gained"]
[null,null,{"v":0.02,"d":"2%"},{"$f":"B4*(1+$C4)","v":{"v":0,"d":"$0.00"}},{"$f":"D4*(1+$C4)","v":{"v":0,"d":"$0.00"}},{"$f":"E4*(1+$C4)","v":{"v":0,"d":"$0.00"}},{"$f":"SUM(D4:F4)-(B4*3)","v":{"v":0,"d":"$0.00"}}]
[null,null,{"v":0.02,"d":"2%"},{"$f":"B5*(1+$C5)","v":{"v":0,"d":"$0.00"}},{"$f":"D5*(1+$C5)","v":{"v":0,"d":"$0.00"}},{"v":0,"d":"$0.00"},{"$f":"SUM(D5:F5)-(B5*3)","v":{"v":0,"d":"$0.00"}}]
[null,null,{"v":0.02,"d":"2%"},{"v":0,"d":"$0.00"},{"v":0,"d":"$0.00"},{"v":0,"d":"$0.00"},{"v":0,"d":"$0.00"}]

{"sheet":"Comparison","index":3,"n_rows":6,"n_cols":7,"rows_kept":6,"merged":[[1,1,1,6]]}
[]
[null,"Comparison"]
[null,null,"Interest Rate","Average Interest Gained Per Year on $10","Average Interest Gained Per Year on $100","Average Interest Gained Per Year on $500","Total Interest Earned"]
[null,"Bank 1",{"v":0.005,"d":"0.5%"},{"$f":"'Bank 1'!G4/3","v":{"v":0,"d":"$0.00"}},{"$f":"'Bank 1'!G5/3","v":{"v":0,"d":"$0.00"}},{"$f":"'Bank 1'!G6/3","v":{"v":0,"d":"$0.00"}},{"$f":"SUM('Bank 1'!G4,'Bank 1'!G5,'Bank 1'!G6)","v":{"v":0,"d":"$0.00"}}]
[null,"Bank 2",{"v":0.01,"d":"1%"},{"$f":"'Bank 2'!G4/3","v":{"v":0,"d":"$0.00"}},{"$f":"'Bank 2'!G5/3","v":{"v":0,"d":"$0.00"}},{"$f":"'Bank 2'!G6/3","v":{"v":0,"d":"$0.00"}},{"$f":"SUM('Bank 2'!G5,'Bank 2'!G4,'Bank 2'!G6)","v":{"v":0,"d":"$0.00"}}]
[null,"Bank 3",{"v":0.02,"d":"2%"},{"$f":"'Bank 3'!G4/3","v":{"v":0,"d":"$0.00"}},{"$f":"'Bank 3'!G5/3","v":{"v":0,"d":"$0.00"}},{"$f":"'Bank 3'!G6/3","v":{"v":0,"d":"$0.00"}},{"$f":"SUM('Bank 3'!G6,'Bank 3'!G5,'Bank 3'!G4)","v":{"v":0,"d":"$0.00"}}]