{"text_format":"3","workbook":"xlsx","n_sheets":4,"sheets":["January","February","March","Comparison"],"not_rendered":{"charts":11},"read":"whole","date_system":"1900"}

{"sheet":"January","index":0,"n_rows":16,"n_cols":6,"rows_kept":16,"merged":[[2,1,2,5],[3,1,3,5],[4,2,4,3],[4,4,4,5]]}
[]
[]
[null,"Arkansas"]
[null,"Amount of Rainfall in January"]
[null,null,"Metric ",null,"Customary"]
[null,"Cities ","mL","L","cups (c) ","quarts (qt)"]
[null,"Jonesboro",null,{"$f":"(C7*0.001)","v":{"v":0,"d":"0.000"}},null,{"$f":"(E7*0.25)","v":{"v":0,"d":"0.000"}}]
[null,"Blythville",null,{"$f":"(C8*0.001)","v":{"v":0,"d":"0.000"}},null,{"$f":"(E8*0.25)","v":{"v":0,"d":"0.000"}}]
[null,"Helena",null,{"v":0,"d":"0.000"},null,{"v":0,"d":"0.000"}]
[null,"Hot Springs",null,{"v":0,"d":"0.000"},null,{"v":0,"d":"0.000"}]
[null,"Searcy",null,{"v":0,"d":"0.000"},null,{"v":0,"d":"0.000"}]
[null,"Mountain Home ",null,{"v":0,"d":"0.000"},null,{"v":0,"d":"0.000"}]
[null,"Fayetteville ",null,{"v":0,"d":"0.000"},null,{"v":0,"d":"0.000"}]
[]
[null,"Total",{"$f":"SUM(C7:C14)","v":{"v":0,"d":"0.000"}},{"$f":"SUM(D7:D14)","v":{"v":0,"d":"0.000"}},{"v":0,"d":"0.000"},{"v":0,"d":"0.000"}]
[null,"Average Amount",{"$f":"AVERAGE(C7:C13)","v":{"$error":"#DIV/0!"}},{"$f":"AVERAGE(D7:D13)","v":{"v":0,"d":"0.000"}},{"$error":"#DIV/0!"},{"v":0,"d":"0.000"}]

{"sheet":"February","index":1,"n_rows":16,"n_cols":6,"rows_kept":16,"merged":[[2,1,2,5],[3,1,3,5],[4,2,4,3],[4,4,4,5]]}
[]
[]
[null,"Arkansas"]
[null,"Amount of Rainfall in February"]
[null,null,"Metric ",null,"Customary"]
[null,"Cities ","mL","L","cups (c) ","quarts (qt)"]
[null,"Jonesboro",null,{"$f":"(C7*0.001)","v":{"v":0,"d":"0.000"}},null,{"$f":"(E7*0.25)","v":{"v":0,"d":"0.000"}}]
[null,"Blythville",null,{"$f":"(C8*0.001)","v":{"v":0,"d":"0.000"}},null,{"$f":"(E8*0.25)","v":{"v":0,"d":"0.000"}}]
[null,"Helena",null,{"v":0,"d":"0.000"},null,{"v":0,"d":"0.000"}]
[null,"Hot Springs",null,{"v":0,"d":"0.000"},null,{"v":0,"d":"0.000"}]
[null,"Searcy",null,{"v":0,"d":"0.000"},null,{"v":0,"d":"0.000"}]
[null,"Mountain Home ",null,{"v":0,"d":"0.000"},null,{"v":0,"d":"0.000"}]
[null,"Fayetteville ",null,{"v":0,"d":"0.000"},null,{"v":0,"d":"0.000"}]
[]
[null,"Total",{"$f":"SUM(C7:C14)","v":{"v":0,"d":"0.000"}},{"$f":"SUM(D7:D14)","v":{"v":0,"d":"0.000"}},{"v":0,"d":"0.000"},{"v":0,"d":"0.000"}]
[null,"Average Amount",{"$f":"AVERAGE(C7:C13)","v":{"$error":"#DIV/0!"}},{"$f":"AVERAGE(D7:D13)","v":{"v":0,"d":"0.000"}},{"$error":"#DIV/0!"},{"v":0,"d":"0.000"}]

{"sheet":"March","index":2,"n_rows":16,"n_cols":6,"rows_kept":16,"merged":[[2,1,2,5],[3,1,3,5],[4,2,4,3],[4,4,4,5]]}
[]
[]
[null,"Arkansas"]
[null,"Amount of Rainfall in March"]
[null,null,"Metric ",null,"Customary"]
[null,"Cities ","mL","L","cups (c) ","quarts (qt)"]
[null,"Jonesboro",null,{"$f":"(C7*0.001)","v":{"v":0,"d":"0.000"}},null,{"$f":"(E7*0.25)","v":{"v":0,"d":"0.000"}}]
[null,"Blythville",null,{"$f":"(C8*0.001)","v":{"v":0,"d":"0.000"}},null,{"$f":"(E8*0.25)","v":{"v":0,"d":"0.000"}}]
[null,"Helena",null,{"v":0,"d":"0.000"},null,{"v":0,"d":"0.000"}]
[null,"Hot Springs",null,{"v":0,"d":"0.000"},null,{"v":0,"d":"0.000"}]
[null,"Searcy",null,{"v":0,"d":"0.000"},null,{"v":0,"d":"0.000"}]
[null,"Mountain Home ",null,{"v":0,"d":"0.000"},null,{"v":0,"d":"0.000"}]
[null,"Fayetteville ",null,{"v":0,"d":"0.000"},null,{"v":0,"d":"0.000"}]
[]
[null,"Total",{"$f":"SUM(C7:C14)","v":{"v":0,"d":"0.000"}},{"$f":"SUM(D7:D14)","v":{"v":0,"d":"0.000"}},{"v":0,"d":"0.000"},{"v":0,"d":"0.000"}]
[null,"Average Amount",{"$f":"AVERAGE(C7:C13)","v":{"$error":"#DIV/0!"}},{"$f":"AVERAGE(D7:D13)","v":{"v":0,"d":"0.000"}},{"$error":"#DIV/0!"},{"v":0,"d":"0.000"}]

{"sheet":"Comparison","index":3,"n_rows":20,"n_cols":10,"rows_kept":20,"merged":[[3,1,3,5],[19,9,19,12]]}
[]
[]
[]
[null,"Since we live in Jonesboro, we're comparing Jonesboro over 3 months!"]
[null,"Cities","mL","L","cups ","quarts (qt)"]
[null,"January",{"$f":"January!C7","v":{"v":0,"d":"0.000"}},{"$f":"January!D7","v":{"v":0,"d":"0.000"}},{"$f":"January!E7","v":{"v":0,"d":"0.000"}},{"$f":"January!F7","v":{"v":0,"d":"0.000"}}]
[null,"Febuary",{"$f":"February!C7","v":{"v":0,"d":"0.000"}},{"$f":"February!D7","v":{"v":0,"d":"0.000"}},{"$f":"February!E7","v":{"v":0,"d":"0.000"}},{"$f":"February!F7","v":{"v":0,"d":"0.000"}}]
[null,"March",{"$f":"March!C7","v":{"v":0,"d":"0.000"}},{"$f":"March!D7","v":{"v":0,"d":"0.000"}},{"$f":"March!E7","v":{"v":0,"d":"0.000"}},{"$f":"March!F7","v":{"v":0,"d":"0.000"}}]
{"$rows_empty":11}
[{"$nulls":9},"A better look at small values!"]