{"text_format":"3","workbook":"xlsx","n_sheets":4,"sheets":["Mrs. Vick's Class","Mrs. Campbell's Class","Ms. Kennedy's Class","First Grade Totals"],"not_rendered":{"charts":14},"read":"whole","date_system":"1900"}

{"sheet":"Mrs. Vick's Class","index":0,"n_rows":30,"n_cols":6,"rows_kept":30,"merged":[[1,1,2,5],[3,1,3,5]]}
[]
[null,"Mrs. Vick's Fundraising Totals"]
[]
[]
[null,"Student","Amount in pennies","Amount in nickels","Amount in dimes","Total"]
[null,"Kylie",{"$nulls":3},{"$f":"(C6+D6+E6)","v":{"v":0,"d":"$0.00"}}]
[null,"Ryder",{"$nulls":3},{"$f":"(C7+D7+E7)","v":{"v":0,"d":"$0.00"}}]
[null,"John Mark",{"$nulls":3},{"v":0,"d":"$0.00"}]
[null,"Isabella",{"$nulls":3},{"v":0,"d":"$0.00"}]
[null,"Jacob",{"$nulls":3},{"v":0,"d":"$0.00"}]
[null,"Haven",{"$nulls":3},{"v":0,"d":"$0.00"}]
[null,"Shawn",{"$nulls":3},{"v":0,"d":"$0.00"}]
[null,"Kallie",{"$nulls":3},{"v":0,"d":"$0.00"}]
[null,"Genesis",{"$nulls":3},{"v":0,"d":"$0.00"}]
[null,"Cole",{"$nulls":3},{"v":0,"d":"$0.00"}]
[null,"Dawson",{"$nulls":3},{"v":0,"d":"$0.00"}]
[null,"Owen",{"$nulls":3},{"v":0,"d":"$0.00"}]
[null,"Hill",{"$nulls":3},{"v":0,"d":"$0.00"}]
[null,"River",{"$nulls":3},{"v":0,"d":"$0.00"}]
[null,"Ridge",{"$nulls":3},{"v":0,"d":"$0.00"}]
[null,"Claire",{"$nulls":3},{"v":0,"d":"$0.00"}]
[null,"Joseph",{"$nulls":3},{"v":0,"d":"$0.00"}]
[null,"Kannon",{"$nulls":3},{"v":0,"d":"$0.00"}]
[null,"Harper",{"$nulls":3},{"v":0,"d":"$0.00"}]
[null,"Easton",{"$nulls":3},{"v":0,"d":"$0.00"}]
[null,"Lea",{"$nulls":3},{"v":0,"d":"$0.00"}]
[null,"Edgar",{"$nulls":3},{"v":0,"d":"$0.00"}]
[null,"Andrew",{"$nulls":3},{"v":0,"d":"$0.00"}]
[null,"Anders",{"$nulls":3},{"v":0,"d":"$0.00"}]
[null,"Totals",{"$f":"SUM(C6:C29)","v":{"v":0,"d":"$0.00"}},{"$f":"SUM(D6:D29)","v":{"v":0,"d":"$0.00"}},{"$f":"SUM(E6:E29)","v":{"v":0,"d":"$0.00"}},{"$f":"SUM(F6:F29)","v":{"v":0,"d":"$0.00"}}]

{"sheet":"Mrs. Campbell's Class","index":1,"n_rows":30,"n_cols":6,"rows_kept":30,"merged":[[1,1,2,5],[3,1,3,5]]}
[]
[null,"Mrs. Campbell’s Class Fundraising Totals"]
[]
[]
[null,"Student","Amount in pennies","Amount in nickels","Amount in dimes","Total"]
[null,"Encoh",{"$nulls":3},{"$f":"(C6+D6+E6)","v":{"v":0,"d":"$0.00"}}]
[null,"Zachary",{"$nulls":3},{"$f":"(C7+D7+E7)","v":{"v":0,"d":"$0.00"}}]
[null,"Braden",{"$nulls":3},{"v":0,"d":"$0.00"}]
[null,"Hudson",{"$nulls":3},{"v":0,"d":"$0.00"}]
[null,"Nathan",{"$nulls":3},{"v":0,"d":"$0.00"}]
[null,"Harrison",{"$nulls":3},{"v":0,"d":"$0.00"}]
[null,"Avery",{"$nulls":3},{"v":0,"d":"$0.00"}]
[null,"Michael",{"$nulls":3},{"v":0,"d":"$0.00"}]
[null,"Lilly",{"$nulls":3},{"v":0,"d":"$0.00"}]
[null,"Isaiah",{"$nulls":3},{"v":0,"d":"$0.00"}]
[null,"Caleb",{"$nulls":3},{"v":0,"d":"$0.00"}]
[null,"Amari",{"$nulls":3},{"v":0,"d":"$0.00"}]
[null,"Baylee",{"$nulls":3},{"v":0,"d":"$0.00"}]
[null,"Jason",{"$nulls":3},{"v":0,"d":"$0.00"}]
[null,"Charlie",{"$nulls":3},{"v":0,"d":"$0.00"}]
[null,"Hollie",{"$nulls":3},{"v":0,"d":"$0.00"}]
[null,"Sasha",{"$nulls":3},{"v":0,"d":"$0.00"}]
[null,"Mario",{"$nulls":3},{"v":0,"d":"$0.00"}]
[null,"Kennon",{"$nulls":3},{"v":0,"d":"$0.00"}]
[null,"Jack",{"$nulls":3},{"v":0,"d":"$0.00"}]
[null,"Ryland",{"$nulls":3},{"v":0,"d":"$0.00"}]
[null,"David",{"$nulls":3},{"v":0,"d":"$0.00"}]
[null,"Camden",{"$nulls":3},{"v":0,"d":"$0.00"}]
[null,"Colby",{"$nulls":3},{"v":0,"d":"$0.00"}]
[null,"Totals",{"$f":"SUM(C6:C29)","v":{"v":0,"d":"$0.00"}},{"$f":"SUM(D6:D29)","v":{"v":0,"d":"$0.00"}},{"$f":"SUM(E6:E29)","v":{"v":0,"d":"$0.00"}},{"$f":"SUM(F6:F29)","v":{"v":0,"d":"$0.00"}}]

{"sheet":"Ms. Kennedy's Class","index":2,"n_rows":30,"n_cols":6,"rows_kept":30,"merged":[[1,1,2,5],[3,1,3,5]]}
[]
[null,"Ms. Kennedy's Fundraising Totals"]
[]
[]
[null,"Student","Amount in pennies","Amount in nickels","Amount in dimes","Total"]
[null,"Griffen",{"$nulls":3},{"$f":"(C6+D6+E6)","v":{"v":0,"d":"$0.00"}}]
[null,"Braxten",{"$nulls":3},{"$f":"(C7+D7+E7)","v":{"v":0,"d":"$0.00"}}]
[null,"Beckett",{"$nulls":3},{"v":0,"d":"$0.00"}]
[null,"Isaac B.",{"$nulls":3},{"v":0,"d":"$0.00"}]
[null,"Jeremiah",{"$nulls":3},{"v":0,"d":"$0.00"}]
[null,"Harrison",{"$nulls":3},{"v":0,"d":"$0.00"}]
[null,"Addison",{"$nulls":3},{"v":0,"d":"$0.00"}]
[null,"Denise",{"$nulls":3},{"v":0,"d":"$0.00"}]
[null,"Anjel",{"$nulls":3},{"v":0,"d":"$0.00"}]
[null,"Elijah",{"$nulls":3},{"v":0,"d":"$0.00"}]
[null,"Christian",{"$nulls":3},{"v":0,"d":"$0.00"}]
[null,"Jeffrey",{"$nulls":3},{"v":0,"d":"$0.00"}]
[null,"Kruz",{"$nulls":3},{"v":0,"d":"$0.00"}]
[null,"Ava",{"$nulls":3},{"v":0,"d":"$0.00"}]
[null,"Andrew",{"$nulls":3},{"v":0,"d":"$0.00"}]
[null,"Adalyn",{"$nulls":3},{"v":0,"d":"$0.00"}]
[null,"Huxley",{"$nulls":3},{"v":0,"d":"$0.00"}]
[null,"Zanaryia",{"$nulls":3},{"v":0,"d":"$0.00"}]
[null,"Clara",{"$nulls":3},{"v":0,"d":"$0.00"}]
[null,"Xaich",{"$nulls":3},{"v":0,"d":"$0.00"}]
[null,"Madyn",{"$nulls":3},{"v":0,"d":"$0.00"}]
[null,"Issac W.",{"$nulls":3},{"v":0,"d":"$0.00"}]
[null,"Elizabeth",{"$nulls":3},{"v":0,"d":"$0.00"}]
[null,"Landon",{"$nulls":3},{"v":0,"d":"$0.00"}]
[null,"Totals",{"$f":"SUM(C6:C29)","v":{"v":0,"d":"$0.00"}},{"$f":"SUM(D6:D29)","v":{"v":0,"d":"$0.00"}},{"$f":"SUM(E6:E29)","v":{"v":0,"d":"$0.00"}},{"$f":"SUM(F6:F29)","v":{"v":0,"d":"$0.00"}}]

{"sheet":"First Grade Totals","index":3,"n_rows":9,"n_cols":6,"rows_kept":9,"merged":[[1,1,2,5],[3,1,3,5]]}
[]
[null,"Totals"]
[]
[]
[null,"Class","Pennies","Nickels","Dimes","Total"]
[null,"Ms. Kennedy",{"$f":"'Ms. Kennedy''s Class'!C30","v":{"v":0,"d":"$0.00"}},{"$f":"'Ms. Kennedy''s Class'!D30","v":{"v":0,"d":"$0.00"}},{"$f":"'Ms. Kennedy''s Class'!E30","v":{"v":0,"d":"$0.00"}},{"$f":"(C6+D6+E6)","v":{"v":0,"d":"$0.00"}}]
[null,"Mrs. Campbell",{"$f":"'Mrs. Campbell''s Class'!C30","v":{"v":0,"d":"$0.00"}},{"$f":"'Mrs. Campbell''s Class'!D30","v":{"v":0,"d":"$0.00"}},{"$f":"'Mrs. Campbell''s Class'!E30","v":{"v":0,"d":"$0.00"}},{"$f":"(C7+D7+E7)","v":{"v":0,"d":"$0.00"}}]
[null,"Mrs. Vick",{"$f":"'Mrs. Vick''s Class'!C30","v":{"v":0,"d":"$0.00"}},{"$f":"'Mrs. Vick''s Class'!D30","v":{"v":0,"d":"$0.00"}},{"$f":"'Mrs. Vick''s Class'!E30","v":{"v":0,"d":"$0.00"}},{"v":0,"d":"$0.00"}]
[null,"Total",{"$f":"SUM(C6:C8)","v":{"v":0,"d":"$0.00"}},{"$f":"SUM(D6:D8)","v":{"v":0,"d":"$0.00"}},{"v":0,"d":"$0.00"},{"v":0,"d":"$0.00"}]