{"text_format":"3","workbook":"xlsx","n_sheets":4,"sheets":["Fridge","Comparison","Closet","Sunlight"],"not_rendered":{"charts":11},"read":"whole","date_system":"1900"}

{"sheet":"Fridge","index":0,"n_rows":9,"n_cols":13,"rows_kept":9,"merged":[[3,3,3,7]]}
[]
[]
[]
[{"$nulls":3},"Plant growth in fridge"]
[null,null,"Start","first check point","growth from start to first","second checkpoint","growth from first to second","third checkpoint","growth from second to third","fourth checkpoint","growth from third to fourth","Average growth per checkpoint","total growth"]
[null,"Plant 1 growth in inches",null,null,{"$f":"D6-C6","v":{"v":0,"d":"0.00"}},null,{"$f":"F6-D6","v":{"v":0,"d":"0.00"}},null,{"$f":"H6-F6","v":{"v":0,"d":"0.00"}},null,{"$f":"J6-H6","v":{"v":0,"d":"0.00"}},{"$f":"(K6+I6+G6+E6)/4","v":{"v":0,"d":"0.00"}},{"$f":"K6+I6+G6+E6","v":{"v":0,"d":"0.00"}}]
[null,"Plant 2 growth in inches",null,null,{"$f":"D7-C7","v":{"v":0,"d":"0.00"}},null,{"$f":"F7-D7","v":{"v":0,"d":"0.00"}},null,{"$f":"H7-F7","v":{"v":0,"d":"0.00"}},null,{"$f":"J7-H7","v":{"v":0,"d":"0.00"}},{"$f":"(K7+I7+G7+E7)/4","v":{"v":0,"d":"0.00"}},{"$f":"K7+I7+G7+E7","v":{"v":0,"d":"0.00"}}]
[null,"plant 3 growth in inches",null,null,{"v":0,"d":"0.00"},null,{"v":0,"d":"0.00"},null,{"v":0,"d":"0.00"},null,{"v":0,"d":"0.00"},{"v":0,"d":"0.00"},{"v":0,"d":"0.00"}]
[null,"average",{"$f":"(C6+C7+C8)/3","v":{"v":0,"d":"0.00"}},{"$f":"(D6+D7+D8)/3","v":{"v":0,"d":"0.00"}},{"v":0,"d":"0.00"},{"v":0,"d":"0.00"},{"v":0,"d":"0.00"},{"v":0,"d":"0.00"},{"v":0,"d":"0.00"},{"v":0,"d":"0.00"},{"v":0,"d":"0.00"},{"v":0,"d":"0.00"},{"v":0,"d":"0.00"}]

{"sheet":"Comparison","index":1,"n_rows":10,"n_cols":7,"rows_kept":10,"merged":[[3,2,3,6],[5,0,7,0]]}
[]
[]
[]
[null,null,"Findings and comparisons"]
[null,null,"check point 1 average","checkpoint 2 average","checkpoint 3 average","checkpoint 4 average","total growth"]
["growth in inches in these areas","sunlight",{"$f":"Sunlight!E9","v":{"v":0,"d":"0.00"}},{"$f":"Sunlight!G9","v":{"v":0,"d":"0.00"}},{"$f":"Sunlight!I9","v":{"v":0,"d":"0.00"}},{"$f":"Sunlight!K9","v":{"v":0,"d":"0.00"}},{"$f":"Sunlight!M9","v":{"v":0,"d":"0.00"}}]
[null,"closet",{"$f":"Closet!E9","v":{"v":0,"d":"0.00"}},{"$f":"Closet!G9","v":{"v":0,"d":"0.00"}},{"$f":"Closet!I9","v":{"v":0,"d":"0.00"}},{"$f":"Closet!K9","v":{"v":0,"d":"0.00"}},{"$f":"Closet!M9","v":{"v":0,"d":"0.00"}}]
[null,"fridge",{"$f":"Fridge!E9","v":{"v":0,"d":"0.00"}},{"$f":"Fridge!G9","v":{"v":0,"d":"0.00"}},{"$f":"Fridge!I9","v":{"v":0,"d":"0.00"}},{"$f":"Fridge!K9","v":{"v":0,"d":"0.00"}},{"$f":"Fridge!M9","v":{"v":0,"d":"0.00"}}]
[null,"average",{"$f":"(C6+C7+C8)/3","v":{"v":0,"d":"0.00"}},{"$f":"(D6+D7+D8)/3","v":{"v":0,"d":"0.00"}},{"v":0,"d":"0.00"},{"v":0,"d":"0.00"},{"v":0,"d":"0.00"}]
[null,"difference",{"$f":"MAX(C6,C7,C8)-MIN(C6,C7,C8)","v":{"v":0,"d":"0.00"}},{"$f":"MAX(D6,D7,D8)-MIN(D6,D7,D8)","v":{"v":0,"d":"0.00"}},{"v":0,"d":"0.00"},{"v":0,"d":"0.00"},{"v":0,"d":"0.00"}]

{"sheet":"Closet","index":2,"n_rows":9,"n_cols":13,"rows_kept":9,"merged":[[3,3,3,7]]}
[]
[]
[]
[{"$nulls":3},"Plant growth in closet"]
[null,null,"Start","first check point","growth from start to first","second checkpoint","growth from first to second","third checkpoint","growth from second to third","fourth checkpoint","growth from third to fourth","Average growth per checkpoint","total growth"]
[null,"Plant 1 growth in inches",null,null,{"$f":"D6-C6","v":{"v":0,"d":"0.00"}},null,{"$f":"F6-D6","v":{"v":0,"d":"0.00"}},null,{"$f":"H6-F6","v":{"v":0,"d":"0.00"}},null,{"$f":"J6-H6","v":{"v":0,"d":"0.00"}},{"$f":"(K6+I6+G6+E6)/4","v":{"v":0,"d":"0.00"}},{"$f":"K6+I6+G6+E6","v":{"v":0,"d":"0.00"}}]
[null,"Plant 2 growth in inches",null,null,{"$f":"D7-C7","v":{"v":0,"d":"0.00"}},null,{"$f":"F7-D7","v":{"v":0,"d":"0.00"}},null,{"$f":"H7-F7","v":{"v":0,"d":"0.00"}},null,{"$f":"J7-H7","v":{"v":0,"d":"0.00"}},{"$f":"(K7+I7+G7+E7)/4","v":{"v":0,"d":"0.00"}},{"$f":"K7+I7+G7+E7","v":{"v":0,"d":"0.00"}}]
[null,"plant 3 growth in inches",null,null,{"v":0,"d":"0.00"},null,{"v":0,"d":"0.00"},null,{"v":0,"d":"0.00"},null,{"v":0,"d":"0.00"},{"v":0,"d":"0.00"},{"v":0,"d":"0.00"}]
[null,"average",{"$f":"(C6+C7+C8)/3","v":{"v":0,"d":"0.00"}},{"$f":"(D6+D7+D8)/3","v":{"v":0,"d":"0.00"}},{"v":0,"d":"0.00"},{"v":0,"d":"0.00"},{"v":0,"d":"0.00"},{"v":0,"d":"0.00"},{"v":0,"d":"0.00"},{"v":0,"d":"0.00"},{"v":0,"d":"0.00"},{"v":0,"d":"0.00"},{"v":0,"d":"0.00"}]

{"sheet":"Sunlight","index":3,"n_rows":9,"n_cols":13,"rows_kept":9,"merged":[[3,3,3,7]]}
[]
[]
[]
[{"$nulls":3},"Plant growth in sunlight"]
[null,null,"Start","first check point","growth from start to first","second checkpoint","growth from first to second","third checkpoint","growth from second to third","fourth checkpoint","growth from third to fourth","Average growth per checkpoint","total growth"]
[null,"Plant 1 growth in inches",null,null,{"$f":"D6-C6","v":{"v":0,"d":"0.00"}},null,{"$f":"F6-D6","v":{"v":0,"d":"0.00"}},null,{"$f":"H6-F6","v":{"v":0,"d":"0.00"}},null,{"$f":"J6-H6","v":{"v":0,"d":"0.00"}},{"$f":"(K6+I6+G6+E6)/4","v":{"v":0,"d":"0.00"}},{"$f":"K6+I6+G6+E6","v":{"v":0,"d":"0.00"}}]
[null,"Plant 2 growth in inches",null,null,{"$f":"D7-C7","v":{"v":0,"d":"0.00"}},null,{"$f":"F7-D7","v":{"v":0,"d":"0.00"}},null,{"$f":"H7-F7","v":{"v":0,"d":"0.00"}},null,{"$f":"J7-H7","v":{"v":0,"d":"0.00"}},{"$f":"(K7+I7+G7+E7)/4","v":{"v":0,"d":"0.00"}},{"$f":"K7+I7+G7+E7","v":{"v":0,"d":"0.00"}}]
[null,"plant 3 growth in inches",null,null,{"v":0,"d":"0.00"},null,{"v":0,"d":"0.00"},null,{"v":0,"d":"0.00"},null,{"v":0,"d":"0.00"},{"v":0,"d":"0.00"},{"v":0,"d":"0.00"}]
[null,"average",{"$f":"(C6+C7+C8)/3","v":{"v":0,"d":"0.00"}},{"$f":"(D6+D7+D8)/3","v":{"v":0,"d":"0.00"}},{"v":0,"d":"0.00"},{"v":0,"d":"0.00"},{"v":0,"d":"0.00"},{"v":0,"d":"0.00"},{"v":0,"d":"0.00"},{"v":0,"d":"0.00"},{"v":0,"d":"0.00"},{"v":0,"d":"0.00"},{"v":0,"d":"0.00"}]