{"text_format":"3","workbook":"xlsx","n_sheets":4,"sheets":["Ms. Smith","Mrs. Baker","Mrs. Hanson","Comparison"],"not_rendered":{"charts":7},"read":"whole","date_system":"1900"}

{"sheet":"Ms. Smith","index":0,"n_rows":9,"n_cols":6,"rows_kept":9,"merged":[[2,1,2,5],[3,1,3,5]]}
[]
[]
[null,"Favorite Pizza Topping (Ms. Smith's Class)"]
[]
[null,null,"Cheese","Pepperoni ","Sausage ","Chicken"]
[null,"Girls"]
[null,"Boys"]
[null,"Average",{"$f":"(C6+C7)/2","v":0},{"$f":"(D6+D7)/2","v":0},0,0]
[null,"Total",{"$f":"C6+C7","v":0},{"$f":"D6+D7","v":0},0,0]

{"sheet":"Mrs. Baker","index":1,"n_rows":9,"n_cols":6,"rows_kept":9,"merged":[[2,1,2,5],[3,1,3,5]]}
[]
[]
[null,"Favorite Pizza Topping (Mrs. Baker's Class)"]
[]
[null,null,"Cheese","Pepperoni ","Sausage ","Chicken"]
[null,"Girls"]
[null,"Boys"]
[null,"Average",{"$f":"(C6+C7)/2","v":0},{"$f":"(D6+D7)/2","v":0},0,0]
[null,"Total",{"$f":"C6+C7","v":0},{"$f":"D6+D7","v":0},0,0]

{"sheet":"Mrs. Hanson","index":2,"n_rows":9,"n_cols":6,"rows_kept":9,"merged":[[2,1,2,5],[3,1,3,5]]}
[]
[]
[null,"Favorite Pizza Topping (Mrs. Hanson's Class)"]
[]
[null,null,"Cheese","Pepperoni ","Sausage ","Chicken"]
[null,"Girls"]
[null,"Boys"]
[null,"Average",{"$f":"(C6+C7)/2","v":0},{"$f":"(D6+D7)/2","v":0},0,0]
[null,"Total",{"$f":"C6+C7","v":0},{"$f":"D6+D7","v":0},0,0]

{"sheet":"Comparison","index":3,"n_rows":9,"n_cols":6,"rows_kept":9,"merged":[[1,0,1,5],[2,0,2,5]]}
[]
["Kindergarten Pizza Survey Results"]
[]
[null,"Cheese","Pepperoni","Sausage","Chicken","Total"]
["Ms. Smith",{"$f":"'Ms. Smith'!C9","v":0},{"$f":"'Ms. Smith'!D9","v":0},{"$f":"'Ms. Smith'!E9","v":0},{"$f":"'Ms. Smith'!F9","v":0},{"$f":"B5+C5+D5+E5","v":0}]
["Mrs. Baker",{"$f":"'Mrs. Baker'!$C$9","v":0},{"$f":"'Mrs. Baker'!$D$9","v":0},{"$f":"'Mrs. Baker'!$E$9","v":0},{"$f":"'Mrs. Baker'!$F$9","v":0},{"$f":"B6+C6+D6+E6","v":0}]
["Mrs. Hanson",{"$f":"'Mrs. Hanson'!$C$9","v":0},{"$f":"'Mrs. Hanson'!$D$9","v":0},{"$f":"'Mrs. Hanson'!$E$9","v":0},{"$f":"'Mrs. Hanson'!$F$9","v":0},{"$f":"B7+C7+D7+E7","v":0}]
["Average",{"$f":"AVERAGE(B5:B7)","v":0},{"$f":"AVERAGE(C5:C7)","v":0},0,0,0]
["Total",{"$f":"B5+B6+B7+B8","v":0},{"$f":"C5+C6+C7+C8","v":0},0,{"$f":"E5+E6+E7+E8","v":0},{"$f":"F5+F6+F7+F8","v":0}]