{"text_format":"3","workbook":"xlsx","n_sheets":4,"sheets":["Room Temperature","Warmer Temperature","Cool Temperature","Comparison"],"not_rendered":{"charts":11,"images":2},"read":"whole","date_system":"1900"}

{"sheet":"Room Temperature","index":0,"n_rows":9,"n_cols":8,"rows_kept":9,"merged":[[0,0,0,7]]}
["Solubility at Room Temprature"]
[null,"Salt","Sugar","Milkpowder","Starch","Bakingpowder","Sum ","Average"]
["Apple juice",{"$nulls":5},{"$f":"SUM(B3:F3)","v":0},{"$f":"(B3+C3+D3+E3+F3)/5","v":{"v":0,"d":"0.0"}}]
["Lemonade",{"$nulls":5},{"$f":"SUM(B4:F4)","v":0},{"$f":"(B4+C4+D4+E4+F4)/5","v":{"v":0,"d":"0.0"}}]
["Tea",{"$nulls":5},0,{"v":0,"d":"0.0"}]
["Vinegar",{"$nulls":5},0,{"v":0,"d":"0.0"}]
["Water",{"$nulls":5},0,{"v":0,"d":"0.0"}]
["Sum",{"$f":"SUM(B3:B7)","v":0},{"$f":"SUM(C3:C7)","v":0},0,0,0,{"$f":"SUM(G3:G7)","v":0},{"v":0,"d":"0.0"}]
["Average",{"$f":"(B3+B4+B5+B6+B7)/5","v":{"v":0,"d":"0.0"}},{"$f":"(C3+C4+C5+C6+C7)/5","v":{"v":0,"d":"0.0"}},{"v":0,"d":"0.0"},{"v":0,"d":"0.0"},{"v":0,"d":"0.0"},{"v":0,"d":"0.0"},{"v":0,"d":"0.0"}]

{"sheet":"Warmer Temperature","index":1,"n_rows":9,"n_cols":8,"rows_kept":9,"merged":[[0,0,0,7]]}
["Solubility at Warmer Temprature"]
[null,"Salt","Sugar","Milkpowder","Starch","Bakingpowder","Sum ","Average"]
["Apple juice",{"$nulls":5},{"$f":"SUM(B3:F3)","v":0},{"$f":"(B3+C3+D3+E3+F3)/5","v":{"v":0,"d":"0.0"}}]
["Lemonade",{"$nulls":5},{"$f":"SUM(B4:F4)","v":0},{"$f":"(B4+C4+D4+E4+F4)/5","v":{"v":0,"d":"0.0"}}]
["Tea",{"$nulls":5},0,{"v":0,"d":"0.0"}]
["Vinegar",{"$nulls":5},0,{"v":0,"d":"0.0"}]
["Water",{"$nulls":5},0,{"v":0,"d":"0.0"}]
["Sum",{"$f":"SUM(B3:B7)","v":0},{"$f":"SUM(C3:C7)","v":0},0,0,0,{"$f":"SUM(G3:G7)","v":0},{"v":0,"d":"0.0"}]
["Average",{"$f":"(B3+B4+B5+B6+B7)/5","v":{"v":0,"d":"0.0"}},{"$f":"(C3+C4+C5+C6+C7)/5","v":{"v":0,"d":"0.0"}},{"v":0,"d":"0.0"},{"v":0,"d":"0.0"},{"v":0,"d":"0.0"},{"v":0,"d":"0.0"},{"v":0,"d":"0.0"}]

{"sheet":"Cool Temperature","index":2,"n_rows":9,"n_cols":8,"rows_kept":9,"merged":[[0,0,0,7]]}
["Solubility at Cooler Temprature"]
[null,"Salt","Sugar","Milkpowder","Starch","Bakingpowder","Sum ","Average"]
["Apple juice",{"$nulls":5},{"$f":"SUM(B3:F3)","v":0},{"$f":"(B3+C3+D3+E3+F3)/5","v":{"v":0,"d":"0.0"}}]
["Lemonade",{"$nulls":5},{"$f":"SUM(B4:F4)","v":0},{"$f":"(B4+C4+D4+E4+F4)/5","v":{"v":0,"d":"0.0"}}]
["Tea",{"$nulls":5},0,{"v":0,"d":"0.0"}]
["Vinegar",{"$nulls":5},0,{"v":0,"d":"0.0"}]
["Water",{"$nulls":5},0,{"v":0,"d":"0.0"}]
["Sum",{"$f":"SUM(B3:B7)","v":0},{"$f":"SUM(C3:C7)","v":0},0,0,0,{"$f":"SUM(G3:G7)","v":0},{"v":0,"d":"0.0"}]
["Average",{"$f":"(B3+B4+B5+B6+B7)/5","v":{"v":0,"d":"0.0"}},{"$f":"(C3+C4+C5+C6+C7)/5","v":{"v":0,"d":"0.0"}},{"v":0,"d":"0.0"},{"v":0,"d":"0.0"},{"v":0,"d":"0.0"},{"v":0,"d":"0.0"},{"v":0,"d":"0.0"}]

{"sheet":"Comparison","index":3,"n_rows":6,"n_cols":7,"rows_kept":6,"merged":[[0,0,0,6]]}
["Comparison"]
[null,"Salt","Sugar","Milk Powder","Starch","Baking Powder","Average"]
["Room Temperature",{"$f":"'Room Temperature'!B9","v":{"v":0,"d":"0.0"}},{"$f":"'Room Temperature'!C9","v":{"v":0,"d":"0.0"}},{"$f":"'Room Temperature'!D9","v":{"v":0,"d":"0.0"}},{"$f":"'Room Temperature'!E9","v":{"v":0,"d":"0.0"}},{"$f":"'Room Temperature'!F9","v":{"v":0,"d":"0.0"}},{"$f":"(B3+C3+D3+E3+F3)/5","v":{"v":0,"d":"0.0"}}]
["Warmer Temperature",{"$f":"'Warmer Temperature'!$B$9","v":{"v":0,"d":"0.0"}},{"$f":"'Warmer Temperature'!$C$9","v":{"v":0,"d":"0.0"}},{"$f":"'Warmer Temperature'!$D$9","v":{"v":0,"d":"0.0"}},{"$f":"'Warmer Temperature'!$E$9","v":{"v":0,"d":"0.0"}},{"$f":"'Warmer Temperature'!$F$9","v":{"v":0,"d":"0.0"}},{"$f":"(B4+C4+D4+E4+F4)/5","v":{"v":0,"d":"0.0"}}]
["Cooler Temperature",{"$f":"'Cool Temperature'!B9","v":{"v":0,"d":"0.0"}},{"$f":"'Cool Temperature'!C9","v":{"v":0,"d":"0.0"}},{"$f":"'Cool Temperature'!D9","v":{"v":0,"d":"0.0"}},{"$f":"'Cool Temperature'!E9","v":{"v":0,"d":"0.0"}},{"$f":"'Cool Temperature'!F9","v":{"v":0,"d":"0.0"}},{"v":0,"d":"0.0"}]
["Average",{"$f":"AVERAGE(B3:B5)","v":{"v":0,"d":"0.0"}},{"$f":"AVERAGE(C3:C5)","v":{"v":0,"d":"0.0"}},{"v":0,"d":"0.0"},{"v":0,"d":"0.0"},{"v":0,"d":"0.0"},{"v":0,"d":"0.0"}]