{"text_format":"3","workbook":"xlsx","n_sheets":4,"sheets":["September","October","November","Comparison"],"not_rendered":{"charts":11},"read":"whole","date_system":"1900"}

{"sheet":"September","index":0,"n_rows":15,"n_cols":7,"rows_kept":15,"merged":[[2,1,2,6],[14,4,14,5]]}
[]
[]
[null,"September Temperatures"]
[]
[null,null,"Week 1","Week 2","Week 3","Week 4","Week 5"]
[null,"Monday"]
[null,"Tuesday"]
[null,"Wednesday"]
[null,"Thursday"]
[null,"Friday"]
[null,"Average Weekly High",{"$f":"MAX(C6:C10)","v":0},{"$f":"MAX(D6:D10)","v":0},0,0,{"$f":"MAX(G6:G10)","v":0}]
[null,"Average Weekly Low",{"$f":"MIN(C6:C10)","v":0},{"$f":"MIN(D6:D10)","v":0},0,0,0]
[null,"Average Weekly Temperature",{"$f":"AVERAGE(C6:C10)","v":{"$error":"#DIV/0!"}},{"$f":"AVERAGE(D6:D10)","v":{"$error":"#DIV/0!"}},{"$error":"#DIV/0!"},{"$error":"#DIV/0!"},{"$error":"#DIV/0!"}]
[]
[{"$nulls":4},"Average Monthly Temperature",null,{"$f":"AVERAGE(C6:G10)","v":{"$error":"#DIV/0!"}}]

{"sheet":"October","index":1,"n_rows":15,"n_cols":7,"rows_kept":15,"merged":[[2,1,2,6],[14,4,14,5]]}
[]
[]
[null,"October Temperatures"]
[]
[null,null,"Week 1","Week 2","Week 3","Week 4","Week 5"]
[null,"Monday"]
[null,"Tuesday"]
[null,"Wednesday"]
[null,"Thursday"]
[null,"Friday"]
[null,"Average Weekly High",{"$f":"MAX(C6:C10)","v":0},{"$f":"MAX(D6:D10)","v":0},0,0,{"$f":"MAX(G6:G10)","v":0}]
[null,"Average Weekly Low",{"$f":"MIN(C6:C10)","v":0},{"$f":"MIN(D6:D10)","v":0},0,0,0]
[null,"Average Weekly Temperature",{"$f":"AVERAGE(C6:C10)","v":{"$error":"#DIV/0!"}},{"$f":"AVERAGE(D6:D10)","v":{"$error":"#DIV/0!"}},{"$error":"#DIV/0!"},{"$error":"#DIV/0!"},{"$error":"#DIV/0!"}]
[]
[{"$nulls":4},"Average Monthly Temperature",null,{"$f":"AVERAGE(C6:G10)","v":{"$error":"#DIV/0!"}}]

{"sheet":"November","index":2,"n_rows":15,"n_cols":7,"rows_kept":15,"merged":[[2,1,2,6],[14,4,14,5]]}
[]
[]
[null,"November Temperatures"]
[]
[null,null,"Week 1","Week 2","Week 3","Week 4","Week 5"]
[null,"Monday"]
[null,"Tuesday"]
[null,"Wednesday"]
[null,"Thursday"]
[null,"Friday"]
[null,"Average Weekly High",{"$f":"MAX(C6:C10)","v":0},{"$f":"MAX(D6:D10)","v":0},0,0,{"$f":"MAX(G6:G10)","v":0}]
[null,"Average Weekly Low",{"$f":"MIN(C6:C10)","v":0},{"$f":"MIN(D6:D10)","v":0},0,0,0]
[null,"Average Weekly Temperature",{"$f":"AVERAGE(C6:C10)","v":{"$error":"#DIV/0!"}},{"$f":"AVERAGE(D6:D10)","v":{"$error":"#DIV/0!"}},{"$error":"#DIV/0!"},{"$error":"#DIV/0!"},{"$error":"#DIV/0!"}]
[]
[{"$nulls":4},"Average Monthly Temperature",null,{"$f":"AVERAGE(C6:G10)","v":{"$error":"#DIV/0!"}}]

{"sheet":"Comparison","index":3,"n_rows":12,"n_cols":7,"rows_kept":12,"merged":[[3,1,3,6],[4,1,4,6]]}
[]
[]
[]
[null,"Average Weekly Temperatures"]
[]
[null,null,"Week 1","Week 2","Week 3","Week 4","Week 5"]
[null,"September",{"$f":"September!C13","v":{"$error":"#DIV/0!"}},{"$f":"September!D13","v":{"$error":"#DIV/0!"}},{"$f":"September!E13","v":{"$error":"#DIV/0!"}},{"$f":"September!F13","v":{"$error":"#DIV/0!"}},{"$f":"September!G13","v":{"$error":"#DIV/0!"}}]
[null,"October",{"$f":"October!C13:G13","v":{"$error":"#DIV/0!"}},{"$f":"October!D13:H13","v":{"$error":"#DIV/0!"}},{"$f":"October!E13:I13","v":{"$error":"#DIV/0!"}},{"$f":"October!F13:J13","v":{"$error":"#DIV/0!"}},{"$f":"October!G13:K13","v":{"$error":"#DIV/0!"}}]
[null,"November",{"$f":"November!C13","v":{"$error":"#DIV/0!"}},{"$f":"November!D13","v":{"$error":"#DIV/0!"}},{"$f":"November!E13","v":{"$error":"#DIV/0!"}},{"$f":"November!F13","v":{"$error":"#DIV/0!"}},{"$f":"November!G13","v":{"$error":"#DIV/0!"}}]
[null,"Average Weekly High ",{"$f":"MAX(C7:C9)","v":{"$error":"#DIV/0!"}},{"$f":"MAX(D7:D9)","v":{"$error":"#DIV/0!"}},{"$f":"MAX(E7:E9)","v":{"$error":"#DIV/0!"}},{"$f":"MAX(F7:F9)","v":{"$error":"#DIV/0!"}},{"$f":"MAX(G7:G9)","v":{"$error":"#DIV/0!"}}]
[null,"Average Weekly Low ",{"$f":"MIN(C7:C9)","v":{"$error":"#DIV/0!"}},{"$f":"MIN(D7:D9)","v":{"$error":"#DIV/0!"}},{"$f":"MIN(E7:E9)","v":{"$error":"#DIV/0!"}},{"$f":"MIN(F7:F9)","v":{"$error":"#DIV/0!"}},{"$f":"MIN(G7:G9)","v":{"$error":"#DIV/0!"}}]
[null,"Average Weekly Temperature",{"$f":"(C7+C8+C9)/3","v":{"$error":"#DIV/0!"}},{"$f":"(D7+D8+D9)/3","v":{"$error":"#DIV/0!"}},{"$f":"(E7+E8+E9)/3","v":{"$error":"#DIV/0!"}},{"$f":"(F7+F8+F9)/3","v":{"$error":"#DIV/0!"}},{"$f":"(G7+G8+G9)/3","v":{"$error":"#DIV/0!"}}]