{"text_format":"3","workbook":"xlsx","n_sheets":4,"sheets":["School","Community","Stores","Comparison"],"not_rendered":{"charts":8},"read":"whole","date_system":"1900"}

{"sheet":"School","index":0,"n_rows":14,"n_cols":8,"rows_kept":14,"merged":[[5,1,5,7]]}
[]
[]
[]
[]
[]
[null,"Change Found on School Grounds"]
[null,"Student ","Week 1","Week 2","Week 3","Week 4","Average ","Total"]
[{"$nulls":6},{"$f":"AVERAGE(C8:F8)","v":{"$error":"#DIV/0!"}},{"$f":"(C8+D8+E8+F8)","v":{"v":0,"d":"$0.00"}}]
[{"$nulls":6},{"$f":"AVERAGE(C9:F9)","v":{"$error":"#DIV/0!"}},{"$f":"(C9+D9+E9+F9)","v":{"v":0,"d":"$0.00"}}]
[{"$nulls":6},{"$error":"#DIV/0!"},{"v":0,"d":"$0.00"}]
[{"$nulls":6},{"$error":"#DIV/0!"},{"v":0,"d":"$0.00"}]
[{"$nulls":6},{"$error":"#DIV/0!"},{"v":0,"d":"$0.00"}]
[null,"Total",{"$f":"SUM(C8:C12)","v":{"v":0,"d":"$0.00"}},{"$f":"SUM(D8:D12)","v":{"v":0,"d":"$0.00"}},{"v":0,"d":"$0.00"},{"v":0,"d":"$0.00"}]
[null,"Average ",{"$f":"(C8+C9+C10+C11+C12)/5","v":0},{"$f":"(D8+D9+D10+D11+D12)/5","v":0},0,0,{"$f":"AVERAGE(G8:G12)","v":{"$error":"#DIV/0!"}},{"$f":"AVERAGE(H8:H12)","v":{"v":0,"d":"$0.00"}}]

{"sheet":"Community","index":1,"n_rows":14,"n_cols":8,"rows_kept":14,"merged":[[5,1,5,7]]}
[]
[]
[]
[]
[]
[null,"Change Found in the Community"]
[null,"Student ","Week 1","Week 2","Week 3","Week 4","Average ","Total"]
[{"$nulls":6},{"$f":"AVERAGE(C8:F8)","v":{"$error":"#DIV/0!"}},{"$f":"(C8+D8+E8+F8)","v":{"v":0,"d":"$0.00"}}]
[{"$nulls":6},{"$f":"AVERAGE(C9:F9)","v":{"$error":"#DIV/0!"}},{"$f":"(C9+D9+E9+F9)","v":{"v":0,"d":"$0.00"}}]
[{"$nulls":6},{"$error":"#DIV/0!"},{"v":0,"d":"$0.00"}]
[{"$nulls":6},{"$error":"#DIV/0!"},{"v":0,"d":"$0.00"}]
[{"$nulls":6},{"$error":"#DIV/0!"},{"v":0,"d":"$0.00"}]
[null,"Total",{"$f":"SUM(C8:C12)","v":{"v":0,"d":"$0.00"}},{"$f":"SUM(D8:D12)","v":{"v":0,"d":"$0.00"}},{"v":0,"d":"$0.00"},{"v":0,"d":"$0.00"}]
[null,"Average ",{"$f":"(C8+C9+C10+C11+C12)/5","v":0},{"$f":"(D8+D9+D10+D11+D12)/5","v":0},0,0,{"$f":"AVERAGE(G8:G12)","v":{"$error":"#DIV/0!"}},{"$f":"AVERAGE(H8:H12)","v":{"v":0,"d":"$0.00"}}]

{"sheet":"Stores","index":2,"n_rows":14,"n_cols":8,"rows_kept":14,"merged":[[5,1,5,7]]}
[]
[]
[]
[]
[]
[null,"Change Found in Stores"]
[null,"Student ","Week 1","Week 2","Week 3","Week 4","Average ","Total"]
[null,"Summer",{"$nulls":4},{"$f":"AVERAGE(C8:F8)","v":{"$error":"#DIV/0!"}},{"$f":"(C8+D8+E8+F8)","v":{"v":0,"d":"$0.00"}}]
[null,"Lexi",{"$nulls":4},{"$f":"AVERAGE(C9:F9)","v":{"$error":"#DIV/0!"}},{"$f":"(C9+D9+E9+F9)","v":{"v":0,"d":"$0.00"}}]
[null,"Alex",{"$nulls":4},{"$error":"#DIV/0!"},{"v":0,"d":"$0.00"}]
[null,"Taylon",{"$nulls":4},{"$error":"#DIV/0!"},{"v":0,"d":"$0.00"}]
[null,"Tanner ",{"$nulls":4},{"$error":"#DIV/0!"},{"v":0,"d":"$0.00"}]
[null,"Total",{"$f":"SUM(C8:C12)","v":{"v":0,"d":"$0.00"}},{"$f":"SUM(D8:D12)","v":{"v":0,"d":"$0.00"}},{"v":0,"d":"$0.00"},{"v":0,"d":"$0.00"}]
[null,"Average ",{"$f":"(C8+C9+C10+C11+C12)/5","v":0},{"$f":"(D8+D9+D10+D11+D12)/5","v":0},0,0,{"$f":"AVERAGE(G8:G12)","v":{"$error":"#DIV/0!"}},{"$f":"AVERAGE(H8:H12)","v":{"v":0,"d":"$0.00"}}]

{"sheet":"Comparison","index":3,"n_rows":12,"n_cols":8,"rows_kept":12,"merged":[[5,1,5,7]]}
[]
[]
[]
[]
[]
[null,"Comparison of Change Collection"]
[null,"Area","Week 1","Week 2","Week 3","Week 4","Average ","Total"]
[null,"School",{"$f":"School!C13","v":{"v":0,"d":"$0.00"}},{"$f":"School!D13","v":{"v":0,"d":"$0.00"}},{"$f":"School!E13","v":{"v":0,"d":"$0.00"}},{"$f":"School!F13","v":{"v":0,"d":"$0.00"}},{"$f":"AVERAGE(C8:F8)","v":{"v":0,"d":"$0.00"}},{"$f":"(C8+D8+E8+F8)","v":{"v":0,"d":"$0.00"}}]
[null,"Community",{"$f":"Community!C13","v":{"v":0,"d":"$0.00"}},{"$f":"Community!D13","v":{"v":0,"d":"$0.00"}},{"$f":"Community!E13","v":{"v":0,"d":"$0.00"}},{"$f":"Community!F13","v":{"v":0,"d":"$0.00"}},{"$f":"AVERAGE(C9:F9)","v":{"v":0,"d":"$0.00"}},{"$f":"(C9+D9+E9+F9)","v":{"v":0,"d":"$0.00"}}]
[null,"Stores",{"$f":"Stores!C13","v":{"v":0,"d":"$0.00"}},{"$f":"Stores!D13","v":{"v":0,"d":"$0.00"}},{"$f":"Stores!E13","v":{"v":0,"d":"$0.00"}},{"$f":"Stores!F13","v":{"v":0,"d":"$0.00"}},{"v":0,"d":"$0.00"},{"v":0,"d":"$0.00"}]
[null,"Average ",{"$f":"AVERAGE(C8:C10)","v":{"v":0,"d":"$0.00"}},{"$f":"AVERAGE(D8:D10)","v":{"v":0,"d":"$0.00"}},{"v":0,"d":"$0.00"},{"v":0,"d":"$0.00"},{"$f":"AVERAGE(G8:G10)","v":{"v":0,"d":"$0.00"}},{"$f":"AVERAGE(H8:H10)","v":{"v":0,"d":"$0.00"}}]
[null,"Total",{"$f":"SUM(C8:C10)","v":{"v":0,"d":"$0.00"}},{"$f":"SUM(D8:D10)","v":{"v":0,"d":"$0.00"}},{"$f":"SUM(E8:E10)","v":{"v":0,"d":"$0.00"}},{"v":0,"d":"$0.00"},null,{"$f":"SUM(H8:H10)","v":{"v":0,"d":"$0.00"}}]