{"text_format":"3","workbook":"xlsx","n_sheets":4,"sheets":["Ms. Erin's Class","Ms. Hattie's Class","Ms. Maggie's Class","Comparison"],"not_rendered":{"charts":12},"read":"whole","date_system":"1900"}

{"sheet":"Ms. Erin's Class","index":0,"n_rows":11,"n_cols":8,"rows_kept":11,"merged":[[3,1,3,7],[4,5,4,7]]}
[]
[]
[]
[null,"Ms. Erin's Class"]
[]
[null,null,"Books About Math","Books About Science","Books About History","Books About Other Subjects /Topics","Total (weekly)","Average (weekly)"]
[null,"Week 1",{"$nulls":4},{"$f":"SUM(C7:F7)","v":0},{"$f":"AVERAGE(C7:F7)","v":{"$error":"#DIV/0!"}}]
[null,"Week 2",{"$nulls":4},{"$f":"SUM(C8:F8)","v":0},{"$f":"AVERAGE(C8:F8)","v":{"$error":"#DIV/0!"}}]
[null,"Week 3",{"$nulls":4},0,{"$f":"AVERAGE(C9:F9)","v":{"$error":"#DIV/0!"}}]
[null,"Week 4",{"$nulls":4},0,{"$f":"AVERAGE(C10:F10)","v":{"$error":"#DIV/0!"}}]
[null,"Total (subject books)",{"$f":"C7+C8+C9+C10","v":0},{"$f":"(D7+D8+D9+D10)","v":0},0,0,{"$f":"SUM(G7:G10)","v":0}]

{"sheet":"Ms. Hattie's Class","index":1,"n_rows":11,"n_cols":8,"rows_kept":11,"merged":[[3,1,3,7],[4,6,4,7]]}
[]
[]
[]
[null,"Ms. Hattie's Class"]
[]
[null,null,"Books About Math","Books About Science","Books About History","Books About Other Subjects /Topics","Total (weekly)","Average (Weekly)"]
[null,"Week 1",{"$nulls":4},{"$f":"SUM(C7:F7)","v":0},{"$f":"AVERAGE(C7:F7)","v":{"$error":"#DIV/0!"}}]
[null,"Week 2",{"$nulls":4},{"$f":"SUM(C8:F8)","v":0},{"$f":"AVERAGE(C8:F8)","v":{"$error":"#DIV/0!"}}]
[null,"Week 3",{"$nulls":4},0,{"$f":"AVERAGE(C9:F9)","v":{"$error":"#DIV/0!"}}]
[null,"Week 4",{"$nulls":4},0,{"$f":"AVERAGE(C10:F10)","v":{"$error":"#DIV/0!"}}]
[null,"Total (subject books)",{"$f":"(C7+C8+C9+C10)","v":0},{"$f":"(D7+D8+D9+D10)","v":0},0,0,{"$f":"SUM(G7:G10)","v":0}]

{"sheet":"Ms. Maggie's Class","index":2,"n_rows":11,"n_cols":8,"rows_kept":11,"merged":[[3,1,3,7]]}
[]
[]
[]
[null,"Ms. Maggie's Class"]
[]
[null,null,"Books About Math","Books About Science","Books About History","Books About Other Subjects /Topics","Total (weekly)","AVERAGE (WEEKLY)"]
[null,"Week 1",{"$nulls":4},{"$f":"SUM(C7:F7)","v":0},{"$f":"AVERAGE(C7:F7)","v":{"$error":"#DIV/0!"}}]
[null,"Week 2",{"$nulls":4},{"$f":"SUM(C8:F8)","v":0},{"$f":"AVERAGE(C8:F8)","v":{"$error":"#DIV/0!"}}]
[null,"Week 3",{"$nulls":4},0,{"$f":"AVERAGE(C9:F9)","v":{"$error":"#DIV/0!"}}]
[null,"Week 4",{"$nulls":4},0,{"$f":"AVERAGE(C10:F10)","v":{"$error":"#DIV/0!"}}]
[null,"Total (subject books)",{"$f":"(C7+C8+C9+C10)","v":0},{"$f":"(D7+D8+D9+D10)","v":0},0,0,{"$f":"SUM(G7:G10)","v":0}]

{"sheet":"Comparison","index":3,"n_rows":10,"n_cols":8,"rows_kept":10,"merged":[[3,1,3,7],[4,1,4,7]]}
[]
[]
[]
[null,"Ms. Erin'S Class, Ms. Hattie's Class, and Ms. Maggie's class Totals"]
[]
[null,null,"Books About Math","Books About Science","Books About History","Books About Other Subjects /Topics","Total ","Average Class Totals"]
[null,"Ms. Erin's Class",{"$f":"'Ms. Erin''s Class'!C11","v":0},{"$f":"'Ms. Erin''s Class'!D11","v":0},{"$f":"'Ms. Erin''s Class'!E11","v":0},{"$f":"'Ms. Erin''s Class'!F11","v":0},{"$f":"'Ms. Erin''s Class'!G11","v":0},{"$f":"AVERAGE(C7:F7)","v":0}]
[null,"Ms. Hattie's Class",{"$f":"'Ms. Hattie''s Class'!C11","v":0},{"$f":"+'Ms. Hattie''s Class'!D11","v":0},{"$f":"'Ms. Hattie''s Class'!E11","v":0},{"$f":"'Ms. Hattie''s Class'!F11","v":0},{"$f":"'Ms. Hattie''s Class'!G11","v":0},{"$f":"AVERAGE(C8:F8)","v":0}]
[null,"Ms. Maggie's Class",{"$f":"'Ms. Maggie''s Class'!C11","v":0},{"$f":"'Ms. Maggie''s Class'!D11","v":0},{"$f":"'Ms. Maggie''s Class'!E11","v":0},{"$f":"'Ms. Maggie''s Class'!F11","v":0},{"$f":"'Ms. Maggie''s Class'!G11","v":0},{"$f":"AVERAGE(C9:F9)","v":0}]
[null,"Total (subject books)",{"$f":"(C7+C8+C9)","v":0},{"$f":"(D7+D8+D9)","v":0},{"$f":"(E7+E8+E9)","v":0},{"$f":"SUM(F7:F9)","v":0},{"$f":"SUM(G7:G9)","v":0}]