{"text_format":"3","workbook":"xlsx","n_sheets":4,"sheets":["Food Smart","Kroger","Wal-Mart","Comparison"],"not_rendered":{"charts":10,"images":3},"read":"whole","date_system":"1900"}

{"sheet":"Food Smart","index":0,"n_rows":11,"n_cols":8,"rows_kept":11,"merged":[[2,1,2,7]]}
[]
[]
[null,"Breakfast Items from Group 3"]
[null,"Items","Month 1 ","Month 2","Month 3","Average","Coupons","Month 4 Using coupons"]
[null,"Milk",{"$nulls":3},{"$f":"AVERAGE(C5:E5)","v":{"$error":"#DIV/0!"}},null,{"$f":"E5+G5","v":{"v":0,"d":"$0.00"}}]
[null,"Juice",{"$nulls":3},{"$f":"AVERAGE(C6:E6)","v":{"$error":"#DIV/0!"}},null,{"$f":"E6+G6","v":{"v":0,"d":"$0.00"}}]
[null,"Eggs",{"$nulls":3},{"$f":"AVERAGE(C7:E7)","v":{"$error":"#DIV/0!"}},null,{"v":0,"d":"$0.00"}]
[null,"Sausage",{"$nulls":3},{"$error":"#DIV/0!"},null,{"v":0,"d":"$0.00"}]
[null,"Bacon",{"$nulls":3},{"$error":"#DIV/0!"},null,{"v":0,"d":"$0.00"}]
[null,"Biscuits",{"$nulls":3},{"$error":"#DIV/0!"},null,{"v":0,"d":"$0.00"}]
[null,"Totals",{"$f":"C5+C6+C7+C8+C9+C10","v":{"v":0,"d":"$0.00"}},{"$f":"D5+D6+D7+D8+D9+D10","v":{"v":0,"d":"$0.00"}},{"v":0,"d":"$0.00"},{"$f":"AVERAGE(C11:E11)","v":{"v":0,"d":"$0.00"}},null,{"$f":"H5+H6+H7+H8+H9+H10","v":{"v":0,"d":"$0.00"}}]

{"sheet":"Kroger","index":1,"n_rows":11,"n_cols":8,"rows_kept":11,"merged":[[2,1,2,7]]}
[]
[]
[null,"Breakfast Items from Group 2"]
[null,"Items","Month 1 ","Month 2","Month 3","Average","Coupons","Month 4 Using coupons"]
[null,"Milk",{"$nulls":3},{"$f":"AVERAGE(C5:E5)","v":{"$error":"#DIV/0!"}},null,{"$f":"E5+G5","v":{"v":0,"d":"$0.00"}}]
[null,"Juice",{"$nulls":3},{"$f":"AVERAGE(C6:E6)","v":{"$error":"#DIV/0!"}},null,{"$f":"E6+G6","v":{"v":0,"d":"$0.00"}}]
[null,"Eggs",{"$nulls":3},{"$f":"AVERAGE(C7:E7)","v":{"$error":"#DIV/0!"}},null,{"v":0,"d":"$0.00"}]
[null,"Sausage",{"$nulls":3},{"$error":"#DIV/0!"},null,{"v":0,"d":"$0.00"}]
[null,"Bacon",{"$nulls":3},{"$error":"#DIV/0!"},null,{"v":0,"d":"$0.00"}]
[null,"Biscuits",{"$nulls":3},{"$error":"#DIV/0!"},null,{"v":0,"d":"$0.00"}]
[null,"Totals",{"$f":"C5+C6+C7+C8+C9+C10","v":{"v":0,"d":"$0.00"}},{"$f":"D5+D6+D7+D8+D9+D10","v":{"v":0,"d":"$0.00"}},{"v":0,"d":"$0.00"},{"$f":"AVERAGE(C11:E11)","v":{"v":0,"d":"$0.00"}},null,{"$f":"H5+H6+H7+H8+H9+H10","v":{"v":0,"d":"$0.00"}}]

{"sheet":"Wal-Mart","index":2,"n_rows":11,"n_cols":8,"rows_kept":11,"merged":[[2,1,2,7]]}
[]
[]
[null,"Breakfast Items from Group 1"]
[null,"Items","Month 1 ","Month 2","Month 3","Average","Coupons","Month 4 Using coupons"]
[null,"Milk",{"$nulls":3},{"$f":"AVERAGE(C5:E5)","v":{"$error":"#DIV/0!"}},null,{"$f":"E5+G5","v":{"v":0,"d":"$0.00"}}]
[null,"Juice",{"$nulls":3},{"$f":"AVERAGE(C6:E6)","v":{"$error":"#DIV/0!"}},null,{"$f":"E6+G6","v":{"v":0,"d":"$0.00"}}]
[null,"Eggs",{"$nulls":3},{"$f":"AVERAGE(C7:E7)","v":{"$error":"#DIV/0!"}},null,{"v":0,"d":"$0.00"}]
[null,"Sausage",{"$nulls":3},{"$error":"#DIV/0!"},null,{"v":0,"d":"$0.00"}]
[null,"Bacon",{"$nulls":3},{"$error":"#DIV/0!"},null,{"v":0,"d":"$0.00"}]
[null,"Biscuits",{"$nulls":3},{"$error":"#DIV/0!"},null,{"v":0,"d":"$0.00"}]
[null,"Totals",{"$f":"C5+C6+C7+C8+C9+C10","v":{"v":0,"d":"$0.00"}},{"$f":"D5+D6+D7+D8+D9+D10","v":{"v":0,"d":"$0.00"}},{"v":0,"d":"$0.00"},{"$f":"(F5+F6+F7+F8+F9+F10)","v":{"$error":"#DIV/0!"}},null,{"$f":"H5+H6+H7+H8+H9+H10","v":{"v":0,"d":"$0.00"}}]

{"sheet":"Comparison","index":3,"n_rows":8,"n_cols":4,"rows_kept":8,"merged":[[2,1,2,3]]}
[]
[]
[null,"Comparison"]
[null,"Stores","Average Over 3 months","Purchase After Coupons"]
[null,"Food Smart",{"$f":"'Food Smart'!F11","v":{"v":0,"d":"$0.00"}},{"$f":"'Food Smart'!H11","v":0}]
[null,"Kroger",{"$f":"Kroger!$F$11","v":{"v":0,"d":"$0.00"}},{"$f":"Kroger!$H$11","v":0}]
[null,"Walmart",{"$f":"'Wal-Mart'!$F$11","v":{"$error":"#DIV/0!"}},{"$f":"'Wal-Mart'!$H$11","v":0}]
[null,"Average",{"$f":"(C5+C6+C7)/3","v":{"$error":"#DIV/0!"}},{"$f":"(D5+D6+D7)/3","v":{"v":0,"d":"$0.00"}}]